Workbook
Name Slicer_Availability: #N/A
Name Slicer_Department: #N/A
Name Slicer_Department1: #N/A
Name Slicer_Department2: #N/A
Name Slicer_ResourceType: #N/A
Name Slicer_Satisfaction_Level: #N/A
Name Slicer_Status: #N/A

Sheet Cleaned_Appointment
A1: Appointment Data Cleaned
A2: AppointmentID | B2: PatientID | C2: DoctorID | D2: Department | E2: Date | F2: Time | G2: Status | H2: Appointment Hour | I2: Day of the Week
A3: N/A | B3: P96099 | C3: D26 | D3: Cardiology | E3: 45292 | G3: N/A | H3: =IF(F3="","",TIME(HOUR(F3),0,0)) | I3: =TEXT(E3,"dddd") -> Monday
A4: A7515 | B4: P16262 | C4: D1 | D4: Orthopedics | E4: 45545 | F4: 0.54166667 | G4: No Show | H4: =IF(F4="","",TIME(HOUR(F4),0,0)) -> 0.54166667 | I4: =TEXT(E4,"dddd") -> Tuesday
A5: A7537 | B5: P99601 | C5: D30 | D5: Cardiology | E5: 45643 | F5: 0.625 | G5: Completed | H5: =IF(F5="","",TIME(HOUR(F5),0,0)) -> 0.625 | I5: =TEXT(E5,"dddd") -> Tuesday
A6: A8866 | B6: P55235 | C6: D30 | D6: Neurology | E6: 45482 | F6: 0.64583333 | G6: Rescheduled | H6: =IF(F6="","",TIME(HOUR(F6),0,0)) -> 0.625 | I6: =TEXT(E6,"dddd") -> Tuesday
A7: A3039 | B7: P93372 | C7: D23 | D7: Pediatric | E7: 45516 | F7: 0.75 | G7: Cancelled | H7: =IF(F7="","",TIME(HOUR(F7),0,0)) -> 0.75 | I7: =TEXT(E7,"dddd") -> Monday
A8: A3237 | B8: P84444 | C8: D1 | D8: Pediatric | E8: 45357 | F8: 0.72916667 | G8: Rescheduled | H8: =IF(F8="","",TIME(HOUR(F8),0,0)) -> 0.70833333 | I8: =TEXT(E8,"dddd") -> Wednesday
A9: A8127 | B9: P41013 | C9: D24 | D9: Neurology | E9: 45383 | F9: 0.45833333 | G9: No Show | H9: =IF(F9="","",TIME(HOUR(F9),0,0)) -> 0.45833333 | I9: =TEXT(E9,"dddd") -> Monday
A10: A7025 | B10: P17235 | C10: D10 | D10: Neurology | E10: 45581 | F10: 0.625 | G10: No Show | H10: =IF(F10="","",TIME(HOUR(F10),0,0)) -> 0.625 | I10: =TEXT(E10,"dddd") -> Wednesday
A11: A8462 | B11: P35768 | C11: D8 | D11: Cardiology | E11: 45558 | F11: 0.64583333 | G11: Completed | H11: =IF(F11="","",TIME(HOUR(F11),0,0)) -> 0.625 | I11: =TEXT(E11,"dddd") -> Monday
A12: A9018 | B12: P28832 | C12: D14 | D12: Orthopedics | E12: 45395 | F12: 0.5625 | G12: Rescheduled | H12: =IF(F12="","",TIME(HOUR(F12),0,0)) -> 0.54166667 | I12: =TEXT(E12,"dddd") -> Saturday
A13: A7791 | B13: P29680 | C13: D28 | D13: Orthopedics | E13: 45460 | F13: 0.35416667 | G13: No Show | H13: =IF(F13="","",TIME(HOUR(F13),0,0)) -> 0.33333333 | I13: =TEXT(E13,"dddd") -> Monday
A14: A4362 | B14: P93978 | C14: D5 | D14: Orthopedics | E14: 45519 | F14: 0.64583333 | G14: No Show | H14: =IF(F14="","",TIME(HOUR(F14),0,0)) -> 0.625 | I14: =TEXT(E14,"dddd") -> Thursday
A15: N/A | B15: P83760 | C15: D1 | D15: Pediatric | E15: 45305 | G15: Cancelled | H15: =IF(F15="","",TIME(HOUR(F15),0,0)) | I15: =TEXT(E15,"dddd") -> Sunday
A16: A1132 | B16: P41254 | C16: D23 | D16: Cardiology | E16: 45344 | F16: 0.33333333 | G16: Completed | H16: =IF(F16="","",TIME(HOUR(F16),0,0)) -> 0.33333333 | I16: =TEXT(E16,"dddd") -> Thursday
A17: A6499 | B17: P73818 | C17: D6 | D17: Orthopedics | E17: 45311 | F17: 0.75 | G17: Rescheduled | H17: =IF(F17="","",TIME(HOUR(F17),0,0)) -> 0.75 | I17: =TEXT(E17,"dddd") -> Saturday
A18: A2196 | B18: P79312 | C18: D14 | D18: Neurology | E18: 45589 | F18: 0.625 | G18: Completed | H18: =IF(F18="","",TIME(HOUR(F18),0,0)) -> 0.625 | I18: =TEXT(E18,"dddd") -> Thursday
A19: A7135 | B19: P82827 | C19: D23 | D19: Neurology | E19: 45615 | F19: 0.60416667 | G19: Completed | H19: =IF(F19="","",TIME(HOUR(F19),0,0)) -> 0.58333333 | I19: =TEXT(E19,"dddd") -> Tuesday
A20: A8788 | B20: P25878 | C20: D28 | D20: Pediatric | E20: 45521 | F20: 0.66666667 | G20: Cancelled | H20: =IF(F20="","",TIME(HOUR(F20),0,0)) -> 0.66666667 | I20: =TEXT(E20,"dddd") -> Saturday
A21: A1284 | B21: P93291 | C21: D6 | D21: Neurology | E21: 45476 | F21: 0.75 | G21: Rescheduled | H21: =IF(F21="","",TIME(HOUR(F21),0,0)) -> 0.75 | I21: =TEXT(E21,"dddd") -> Wednesday
A22: A7527 | B22: P14299 | C22: D29 | D22: Cardiology | E22: 45652 | F22: 0.52083333 | G22: Cancelled | H22: =IF(F22="","",TIME(HOUR(F22),0,0)) -> 0.5 | I22: =TEXT(E22,"dddd") -> Thursday
A23: A5514 | B23: P90461 | C23: D15 | D23: Oncology | E23: 45640 | F23: 0.54166667 | G23: Cancelled | H23: =IF(F23="","",TIME(HOUR(F23),0,0)) -> 0.54166667 | I23: =TEXT(E23,"dddd") -> Saturday
A24: A4853 | B24: P77174 | C24: D11 | D24: Pediatric | E24: 45635 | F24: 0.39583333 | G24: Rescheduled | H24: =IF(F24="","",TIME(HOUR(F24),0,0)) -> 0.375 | I24: =TEXT(E24,"dddd") -> Monday
A25: A4504 | B25: P38694 | C25: D14 | D25: General Medicine | E25: 45644 | F25: 0.41666667 | G25: No Show | H25: =IF(F25="","",TIME(HOUR(F25),0,0)) -> 0.41666667 | I25: =TEXT(E25,"dddd") -> Wednesday
A26: A2106 | B26: P45916 | C26: D25 | D26: General Medicine | E26: 45641 | F26: 0.75 | G26: Rescheduled | H26: =IF(F26="","",TIME(HOUR(F26),0,0)) -> 0.75 | I26: =TEXT(E26,"dddd") -> Sunday
A27: N/A | B27: P98707 | C27: D20 | D27: General Medicine | F27: 0.54166667 | G27: N/A | H27: =IF(F27="","",TIME(HOUR(F27),0,0)) -> 0.54166667
A28: A6156 | B28: P68619 | C28: D11 | D28: Pediatric | E28: 45558 | F28: 0.75 | G28: Completed | H28: =IF(F28="","",TIME(HOUR(F28),0,0)) -> 0.75 | I28: =TEXT(E28,"dddd") -> Monday
A29: A2963 | B29: P11071 | C29: D13 | D29: Orthopedics | E29: 45486 | F29: 0.77083333 | G29: Cancelled | H29: =IF(F29="","",TIME(HOUR(F29),0,0)) -> 0.75 | I29: =TEXT(E29,"dddd") -> Saturday
A30: A1511 | B30: P18878 | C30: D27 | D30: Pediatric | E30: 45322 | F30: 0.75 | G30: No Show | H30: =IF(F30="","",TIME(HOUR(F30),0,0)) -> 0.75 | I30: =TEXT(E30,"dddd") -> Wednesday
A31: A1949 | B31: P88817 | C31: D28 | D31: Pediatric | E31: 45520 | F31: 0.66666667 | G31: Cancelled | H31: =IF(F31="","",TIME(HOUR(F31),0,0)) -> 0.66666667 | I31: =TEXT(E31,"dddd") -> Friday
A32: A9088 | B32: P70452 | C32: D7 | D32: Neurology | E32: 45622 | F32: 0.41666667 | G32: No Show | H32: =IF(F32="","",TIME(HOUR(F32),0,0)) -> 0.41666667 | I32: =TEXT(E32,"dddd") -> Tuesday
A33: A1384 | B33: P79213 | C33: D13 | D33: General Medicine | E33: 45642 | F33: 0.35416667 | G33: Rescheduled | H33: =IF(F33="","",TIME(HOUR(F33),0,0)) -> 0.33333333 | I33: =TEXT(E33,"dddd") -> Monday
A34: A4140 | B34: P92292 | C34: D17 | D34: Orthopedics | E34: 45384 | F34: 0.72916667 | G34: No Show | H34: =IF(F34="","",TIME(HOUR(F34),0,0)) -> 0.70833333 | I34: =TEXT(E34,"dddd") -> Tuesday
A35: A6170 | B35: P46858 | C35: D17 | D35: Oncology | E35: 45446 | F35: 0.64583333 | G35: Rescheduled | H35: =IF(F35="","",TIME(HOUR(F35),0,0)) -> 0.625 | I35: =TEXT(E35,"dddd") -> Monday
A36: A5704 | B36: P10337 | C36: D12 | D36: Neurology | E36: 45383 | F36: 0.41666667 | G36: Cancelled | H36: =IF(F36="","",TIME(HOUR(F36),0,0)) -> 0.41666667 | I36: =TEXT(E36,"dddd") -> Monday
A37: A1762 | B37: P76416 | C37: D26 | D37: Oncology | E37: 45646 | F37: 0.5625 | G37: No Show | H37: =IF(F37="","",TIME(HOUR(F37),0,0)) -> 0.54166667 | I37: =TEXT(E37,"dddd") -> Friday
A38: A3377 | B38: P47558 | C38: D30 | D38: Orthopedics | E38: 45647 | F38: 0.6875 | G38: No Show | H38: =IF(F38="","",TIME(HOUR(F38),0,0)) -> 0.66666667 | I38: =TEXT(E38,"dddd") -> Saturday
A39: A7484 | B39: P10851 | C39: D11 | D39: General Medicine | E39: 45416 | F39: 0.6875 | G39: Completed | H39: =IF(F39="","",TIME(HOUR(F39),0,0)) -> 0.66666667 | I39: =TEXT(E39,"dddd") -> Saturday
... A58: A3495 | B58: P27259 | C58: D3 | D58: Neurology | E58: 45551 | F58: 0.64583333 | G58: Cancelled | H58: =IF(F58="","",TIME(HOUR(F58),0,0)) -> 0.625 | I58: =TEXT(E58,"dddd") -> Monday
...

Sheet Cleaned_Feedback
A1: Feedback Data Cleaned
A2: FeedbackID | B2: PatientID | C2: Appointment Date | D2: Time | E2: Department | F2: Feedback Score | G2: Comments | H2: WaitTime( in min) | I2: Satisfaction Level | J2: Appointment Hour
A3: F1000 | B3: P99601 | C3: =VLOOKUP(B3,Cleaned_Appointment!$B$3:$F$202,4,FALSE) -> 45643 | D3: =VLOOKUP(B3,Cleaned_Appointment!$B$3:$F$202,5,FALSE) -> 0.625 | E3: Cardiology | F3: 4 | G3: Delayed response | H3: 45 | I3: =IF(F3>=4,"High","Low") -> High | J3: =IF(D3="","",TIME(HOUR(D3),0,0)) -> 0.625
A4: F1001 | B4: P36565 | C4: =VLOOKUP(B4,Cleaned_Appointment!$B$3:$F$202,4,FALSE) -> 45535 | D4: =VLOOKUP(B4,Cleaned_Appointment!$B$3:$F$202,5,FALSE) -> 0.45833333 | E4: Orthopedics | F4: 3 | G4: Needs improvement | H4: 45 | I4: =IF(F4>=4,"High","Low") -> Low | J4: =IF(D4="","",TIME(HOUR(D4),0,0)) -> 0.45833333
A5: F1002 | B5: P99601 | C5: =VLOOKUP(B5,Cleaned_Appointment!$B$3:$F$202,4,FALSE) -> 45643 | D5: =VLOOKUP(B5,Cleaned_Appointment!$B$3:$F$202,5,FALSE) -> 0.625 | E5: N/A | F5: 6.27 | G5: Excellent care | H5: 30 | I5: =IF(F5>=4,"High","Low") -> High | J5: =IF(D5="","",TIME(HOUR(D5),0,0)) -> 0.625
A6: F1003 | B6: P67499 | C6: =VLOOKUP(B6,Cleaned_Appointment!$B$3:$F$202,4,FALSE) -> 45350 | D6: =VLOOKUP(B6,Cleaned_Appointment!$B$3:$F$202,5,FALSE) -> 0.77083333 | E6: Neurology | F6: 9 | G6: Amazing team | H6: 30 | I6: =IF(F6>=4,"High","Low") -> High | J6: =IF(D6="","",TIME(HOUR(D6),0,0)) -> 0.75
A7: F1004 | B7: P49994 | C7: =VLOOKUP(B7,Cleaned_Appointment!$B$3:$F$202,4,FALSE) -> 45594 | D7: =VLOOKUP(B7,Cleaned_Appointment!$B$3:$F$202,5,FALSE) -> 0.70833333 | E7: Pediatric | F7: 8 | G7: Great doctors | H7: 45 | I7: =IF(F7>=4,"High","Low") -> High | J7: =IF(D7="","",TIME(HOUR(D7),0,0)) -> 0.70833333
A8: F1005 | B8: P31843 | C8: =VLOOKUP(B8,Cleaned_Appointment!$B$3:$F$202,4,FALSE) -> 45646 | D8: =VLOOKUP(B8,Cleaned_Appointment!$B$3:$F$202,5,FALSE) -> 0.4375 | E8: Pediatric | F8: 5 | G8: Satisfactory | H8: 45 | I8: =IF(F8>=4,"High","Low") -> High | J8: =IF(D8="","",TIME(HOUR(D8),0,0)) -> 0.41666667
A9: F1006 | B9: P63392 | C9: =VLOOKUP(B9,Cleaned_Appointment!$B$3:$F$202,4,FALSE) -> 45324 | D9: =VLOOKUP(B9,Cleaned_Appointment!$B$3:$F$202,5,FALSE) -> 0.625 | E9: Neurology | F9: 4 | G9: Delayed response | H9: 45 | I9: =IF(F9>=4,"High","Low") -> High | J9: =IF(D9="","",TIME(HOUR(D9),0,0)) -> 0.625
A10: F1007 | B10: P66658 | C10: =VLOOKUP(B10,Cleaned_Appointment!$B$3:$F$202,4,FALSE) -> 45634 | D10: =VLOOKUP(B10,Cleaned_Appointment!$B$3:$F$202,5,FALSE) -> 0.60416667 | E10: Neurology | F10: 7 | G10: Child-friendly staff | H10: 45 | I10: =IF(F10>=4,"High","Low") -> High | J10: =IF(D10="","",TIME(HOUR(D10),0,0)) -> 0.58333333
A11: F1008 | B11: P95953 | C11: =VLOOKUP(B11,Cleaned_Appointment!$B$3:$F$202,4,FALSE) -> 45325 | D11: =VLOOKUP(B11,Cleaned_Appointment!$B$3:$F$202,5,FALSE) -> 0.39583333 | E11: Cardiology | F11: 7 | G11: Child-friendly staff | H11: 45 | I11: =IF(F11>=4,"High","Low") -> High | J11: =IF(D11="","",TIME(HOUR(D11),0,0)) -> 0.375
A12: F1009 | B12: P80770 | C12: =VLOOKUP(B12,Cleaned_Appointment!$B$3:$F$202,4,FALSE) -> 45368 | D12: =VLOOKUP(B12,Cleaned_Appointment!$B$3:$F$202,5,FALSE) -> 0.375 | E12: Orthopedics | F12: 4 | G12: Delayed response | H12: 45 | I12: =IF(F12>=4,"High","Low") -> High | J12: =IF(D12="","",TIME(HOUR(D12),0,0)) -> 0.375
A13: F1010 | B13: P29680 | C13: =VLOOKUP(B13,Cleaned_Appointment!$B$3:$F$202,4,FALSE) -> 45460 | D13: =VLOOKUP(B13,Cleaned_Appointment!$B$3:$F$202,5,FALSE) -> 0.35416667 | E13: Orthopedics | F13: 4 | G13: Room cleanliness issue | H13: 45 | I13: =IF(F13>=4,"High","Low") -> High | J13: =IF(D13="","",TIME(HOUR(D13),0,0)) -> 0.33333333
A14: F1011 | B14: P93978 | C14: =VLOOKUP(B14,Cleaned_Appointment!$B$3:$F$202,4,FALSE) -> 45519 | D14: =VLOOKUP(B14,Cleaned_Appointment!$B$3:$F$202,5,FALSE) -> 0.64583333 | E14: Orthopedics | F14: 3 | G14: Long wait times | H14: 45 | I14: =IF(F14>=4,"High","Low") -> Low | J14: =IF(D14="","",TIME(HOUR(D14),0,0)) -> 0.625
... A19: F1016 | B19: P82827 | C19: =VLOOKUP(B19,Cleaned_Appointment!$B$3:$F$202,4,FALSE) -> 45615 | D19: =VLOOKUP(B19,Cleaned_Appointment!$B$3:$F$202,5,FALSE) -> 0.60416667 | E19: Neurology | F19: 5 | G19: Average | H19: 45 | I19: =IF(F19>=4,"High","Low") -> High | J19: =IF(D19="","",TIME(HOUR(D19),0,0)) -> 0.58333333
A20: F1017 | B20: P25878 | C20: =VLOOKUP(B20,Cleaned_Appointment!$B$3:$F$202,4,FALSE) -> 45521 | D20: =VLOOKUP(B20,Cleaned_Appointment!$B$3:$F$202,5,FALSE) -> 0.66666667 | E20: N/A | F20: 6.27 | G20: Helpful staff | I20: =IF(F20>=4,"High","Low") -> High | J20: =IF(D20="","",TIME(HOUR(D20),0,0)) -> 0.66666667
A21: F1018 | B21: P93291 | C21: =VLOOKUP(B21,Cleaned_Appointment!$B$3:$F$202,4,FALSE) -> 45476 | D21: =VLOOKUP(B21,Cleaned_Appointment!$B$3:$F$202,5,FALSE) -> 0.75 | E21: Neurology | F21: 8 | G21: Efficient process | H21: 45 | I21: =IF(F21>=4,"High","Low") -> High | J21: =IF(D21="","",TIME(HOUR(D21),0,0)) -> 0.75
A22: F1019 | B22: P14299 | C22: =VLOOKUP(B22,Cleaned_Appointment!$B$3:$F$202,4,FALSE) -> 45652 | D22: =VLOOKUP(B22,Cleaned_Appointment!$B$3:$F$202,5,FALSE) -> 0.52083333 | E22: Cardiology | F22: 8 | G22: Great doctors | H22: 45 | I22: =IF(F22>=4,"High","Low") -> High | J22: =IF(D22="","",TIME(HOUR(D22),0,0)) -> 0.5
A23: F1020 | B23: P90461 | C23: =VLOOKUP(B23,Cleaned_Appointment!$B$3:$F$202,4,FALSE) -> 45640 | D23: =VLOOKUP(B23,Cleaned_Appointment!$B$3:$F$202,5,FALSE) -> 0.54166667 | E23: Oncology | F23: 3 | G23: Needs improvement | H23: 45 | I23: =IF(F23>=4,"High","Low") -> Low | J23: =IF(D23="","",TIME(HOUR(D23),0,0)) -> 0.54166667
A24: F1021 | B24: P77174 | C24: =VLOOKUP(B24,Cleaned_Appointment!$B$3:$F$202,4,FALSE) -> 45635 | D24: =VLOOKUP(B24,Cleaned_Appointment!$B$3:$F$202,5,FALSE) -> 0.39583333 | E24: Pediatric | F24: 4 | G24: Delayed response | H24: 45 | I24: =IF(F24>=4,"High","Low") -> High | J24: =IF(D24="","",TIME(HOUR(D24),0,0)) -> 0.375
A25: F1022 | B25: P38694 | C25: =VLOOKUP(B25,Cleaned_Appointment!$B$3:$F$202,4,FALSE) -> 45644 | D25: =VLOOKUP(B25,Cleaned_Appointment!$B$3:$F$202,5,FALSE) -> 0.41666667 | E25: General Medicine | F25: 7 | G25: Child-friendly staff | H25: 45 | I25: =IF(F25>=4,"High","Low") -> High | J25: =IF(D25="","",TIME(HOUR(D25),0,0)) -> 0.41666667
A26: F1023 | B26: P45916 | C26: =VLOOKUP(B26,Cleaned_Appointment!$B$3:$F$202,4,FALSE) -> 45641 | D26: =VLOOKUP(B26,Cleaned_Appointment!$B$3:$F$202,5,FALSE) -> 0.75 | E26: General Medicine | F26: 4 | G26: Delayed response | H26: 45 | I26: =IF(F26>=4,"High","Low") -> High | J26: =IF(D26="","",TIME(HOUR(D26),0,0)) -> 0.75
A27: F1024 | B27: P67499 | C27: =VLOOKUP(B27,Cleaned_Appointment!$B$3:$F$202,4,FALSE) -> 45350 | D27: =VLOOKUP(B27,Cleaned_Appointment!$B$3:$F$202,5,FALSE) -> 0.77083333 | E27: General Medicine | F27: 9 | G27: Highly recommended | H27: 30 | I27: =IF(F27>=4,"High","Low") -> High | J27: =IF(D27="","",TIME(HOUR(D27),0,0)) -> 0.75
A28: F1025 | B28: P68619 | C28: =VLOOKUP(B28,Cleaned_Appointment!$B$3:$F$202,4,FALSE) -> 45558 | D28: =VLOOKUP(B28,Cleaned_Appointment!$B$3:$F$202,5,FALSE) -> 0.75 | E28: Pediatric | F28: 4 | G28: Delayed response | H28: 45 | I28: =IF(F28>=4,"High","Low") -> High | J28: =IF(D28="","",TIME(HOUR(D28),0,0)) -> 0.75
A29: F1026 | B29: P11071 | C29: =VLOOKUP(B29,Cleaned_Appointment!$B$3:$F$202,4,FALSE) -> 45486 | D29: =VLOOKUP(B29,Cleaned_Appointment!$B$3:$F$202,5,FALSE) -> 0.77083333 | E29: Orthopedics | F29: 7 | G29: Child-friendly staff | H29: 45 | I29: =IF(F29>=4,"High","Low") -> High | J29: =IF(D29="","",TIME(HOUR(D29),0,0)) -> 0.75
A30: F1027 | B30: P18878 | C30: =VLOOKUP(B30,Cleaned_Appointment!$B$3:$F$202,4,FALSE) -> 45322 | D30: =VLOOKUP(B30,Cleaned_Appointment!$B$3:$F$202,5,FALSE) -> 0.75 | E30: Pediatric | F30: 7 | G30: Satisfactory | H30: 45 | I30: =IF(F30>=4,"High","Low") -> High | J30: =IF(D30="","",TIME(HOUR(D30),0,0)) -> 0.75
A31: F1028 | B31: P88817 | C31: =VLOOKUP(B31,Cleaned_Appointment!$B$3:$F$202,4,FALSE) -> 45520 | D31: =VLOOKUP(B31,Cleaned_Appointment!$B$3:$F$202,5,FALSE) -> 0.66666667 | E31: Pediatric | F31: 3 | G31: Needs improvement | H31: 45 | I31: =IF(F31>=4,"High","Low") -> Low | J31: =IF(D31="","",TIME(HOUR(D31),0,0)) -> 0.66666667
A32: F1029 | B32: P70452 | C32: =VLOOKUP(B32,Cleaned_Appointment!$B$3:$F$202,4,FALSE) -> 45622 | D32: =VLOOKUP(B32,Cleaned_Appointment!$B$3:$F$202,5,FALSE) -> 0.41666667 | E32: Neurology | F32: 9 | G32: Excellent care | H32: 30 | I32: =IF(F32>=4,"High","Low") -> High | J32: =IF(D32="","",TIME(HOUR(D32),0,0)) -> 0.41666667
... A105: F1103 | B105: P29322 | C105: =VLOOKUP(B105,Cleaned_Appointment!$B$3:$F$202,4,FALSE) -> 45618 | D105: =VLOOKUP(B105,Cleaned_Appointment!$B$3:$F$202,5,FALSE) -> 0.77083333 | E105: Neurology | F105: 7 | G105: Satisfactory | H105: 45 | I105: =IF(F105>=4,"High","Low") -> High | J105: =IF(D105="","",TIME(HOUR(D105),0,0)) -> 0.75
A106: F1104 | B106: P64103 | C106: =VLOOKUP(B106,Cleaned_Appointment!$B$3:$F$202,4,FALSE) -> 45387 | D106: =VLOOKUP(B106,Cleaned_Appointment!$B$3:$F$202,5,FALSE) -> 0.375 | E106: N/A | F106: 6.27 | G106: N/A | I106: =IF(F106>=4,"High","Low") -> High | J106: =IF(D106="","",TIME(HOUR(D106),0,0)) -> 0.375
A107: F1105 | B107: P93372 | C107: =VLOOKUP(B107,Cleaned_Appointment!$B$3:$F$202,4,FALSE) -> 45516 | D107: =VLOOKUP(B107,Cleaned_Appointment!$B$3:$F$202,5,FALSE) -> 0.75 | E107: General Medicine | F107: 4 | G107: Delayed response | H107: 45 | I107: =IF(F107>=4,"High","Low") -> High | J107: =IF(D107="","",TIME(HOUR(D107),0,0)) -> 0.75
A108: F1106 | B108: P33026 | C108: =VLOOKUP(B108,Cleaned_Appointment!$B$3:$F$202,4,FALSE) -> 45608 | D108: =VLOOKUP(B108,Cleaned_Appointment!$B$3:$F$202,5,FALSE) -> 0.35416667 | E108: Orthopedics | F108: 8 | G108: Great doctors | H108: 45 | I108: =IF(F108>=4,"High","Low") -> High | J108: =IF(D108="","",TIME(HOUR(D108),0,0)) -> 0.33333333
A109: F1107 | B109: P47436 | C109: =VLOOKUP(B109,Cleaned_Appointment!$B$3:$F$202,4,FALSE) -> 45367 | D109: =VLOOKUP(B109,Cleaned_Appointment!$B$3:$F$202,5,FALSE) -> 0.60416667 | E109: Cardiology | F109: 8 | G109: Efficient process | H109: 45 | I109: =IF(F109>=4,"High","Low") -> High | J109: =IF(D109="","",TIME(HOUR(D109),0,0)) -> 0.58333333
A110: F1108 | B110: P48965 | C110: =VLOOKUP(B110,Cleaned_Appointment!$B$3:$F$202,4,FALSE) -> 45404 | D110: =VLOOKUP(B110,Cleaned_Appointment!$B$3:$F$202,5,FALSE) -> 0.75 | E110: Oncology | F110: 9 | G110: Highly recommended | H110: 30 | I110: =IF(F110>=4,"High","Low") -> High | J110: =IF(D110="","",TIME(HOUR(D110),0,0)) -> 0.75
A111: F1109 | B111: P20771 | C111: =VLOOKUP(B111,Cleaned_Appointment!$B$3:$F$202,4,FALSE) -> 45480 | D111: =VLOOKUP(B111,Cleaned_Appointment!$B$3:$F$202,5,FALSE) -> 0.6875 | E111: Pediatric | F111: 6 | G111: Very good | H111: 45 | I111: =IF(F111>=4,"High","Low") -> High | J111: =IF(D111="","",TIME(HOUR(D111),0,0)) -> 0.66666667
A112: F1110 | B112: P32966 | C112: =VLOOKUP(B112,Cleaned_Appointment!$B$3:$F$202,4,FALSE) -> 45444 | D112: =VLOOKUP(B112,Cleaned_Appointment!$B$3:$F$202,5,FALSE) -> 0.41666667 | E112: Pediatric | F112: 6 | G112: Very good | H112: 45 | I112: =IF(F112>=4,"High","Low") -> High | J112: =IF(D112="","",TIME(HOUR(D112),0,0)) -> 0.41666667
A113: F1111 | B113: P65077 | C113: =VLOOKUP(B113,Cleaned_Appointment!$B$3:$F$202,4,FALSE) -> 45472 | D113: =VLOOKUP(B113,Cleaned_Appointment!$B$3:$F$202,5,FALSE) -> 0.45833333 | E113: General Medicine | F113: 4 | G113: Delayed response | H113: 45 | I113: =IF(F113>=4,"High","Low") -> High | J113: =IF(D113="","",TIME(HOUR(D113),0,0)) -> 0.45833333
A114: F1112 | B114: P30147 | C114: =VLOOKUP(B114,Cleaned_Appointment!$B$3:$F$202,4,FALSE) -> 45303 | D114: =VLOOKUP(B114,Cleaned_Appointment!$B$3:$F$202,5,FALSE) -> 0.75 | E114: Oncology | F114: 3 | G114: Long wait times | H114: 45 | I114: =IF(F114>=4,"High","Low") -> Low | J114: =IF(D114="","",TIME(HOUR(D114),0,0)) -> 0.75
A115: F1113 | B115: P28668 | C115: =VLOOKUP(B115,Cleaned_Appointment!$B$3:$F$202,4,FALSE) -> 45541 | D115: =VLOOKUP(B115,Cleaned_Appointment!$B$3:$F$202,5,FALSE) -> 0.5 | E115: Pediatric | F115: 4 | G115: Delayed response | H115: 45 | I115: =IF(F115>=4,"High","Low") -> High | J115: =IF(D115="","",TIME(HOUR(D115),0,0)) -> 0.5
A116: F1114 | B116: P54890 | C116: =VLOOKUP(B116,Cleaned_Appointment!$B$3:$F$202,4,FALSE) -> 45486 | D116: =VLOOKUP(B116,Cleaned_Appointment!$B$3:$F$202,5,FALSE) -> 0.33333333 | E116: Oncology | F116: 4 | G116: Room cleanliness issue | H116: 45 | I116: =IF(F116>=4,"High","Low") -> High | J116: =IF(D116="","",TIME(HOUR(D116),0,0)) -> 0.33333333
...

Sheet Cleaned_Resource
A1: Resource Data Cleaned
A2: ResourceID | B2: Department | C2: ResourceType | D2: UsageHours | E2: Date | F2: Availability
A3: R5487 | B3: Cardiology | C3: Nurse | D3: 2 | E3: 45501 | F3: Available
A4: R8097 | B4: Orthopedics | C4: Doctor | D4: 0 | E4: 45545 | F4: Unavailable
A5: R2557 | B5: General Medicine | C5: Room | D5: 0 | E5: 45643 | F5: Under Maintenance
A6: R9024 | B6: Neurology | C6: Doctor | D6: 9 | E6: 45482 | F6: Available
A7: R9181 | B7: N/A | C7: Room | D7: 1 | F7: Available
A8: R2629 | B8: Oncology | C8: Doctor | D8: 4 | E8: 45357 | F8: Available
A9: R1317 | B9: Cardiology | C9: Nurse | D9: 5 | E9: 45383 | F9: Available
A10: R9640 | B10: Neurology | C10: Room | D10: 1 | E10: 45581 | F10: Available
A11: R1787 | B11: Oncology | C11: Doctor | D11: 8 | E11: 45558 | F11: Available
A12: R9426 | B12: Cardiology | C12: Technician | D12: 5 | E12: 45395 | F12: In Use
A13: R1606 | B13: General Medicine | C13: Nurse | D13: 8 | E13: 45460 | F13: Available
A14: R3242 | B14: Pediatric | C14: Doctor | D14: 6 | E14: 45519 | F14: Available
A15: R6893 | B15: Neurology | C15: Doctor | D15: 3 | E15: 45416 | F15: Available
A16: R3237 | B16: Orthopedics | C16: Nurse | D16: 4 | E16: 45344 | F16: Available
A17: R5274 | B17: General Medicine | C17: Doctor | D17: 7 | E17: 45311 | F17: Available
A18: R1039 | B18: Neurology | C18: Technician | D18: 5 | E18: 45589 | F18: Available
A19: R5597 | B19: Neurology | C19: Nurse | D19: 0 | E19: 45615 | F19: Unavailable
... A22: R5074 | B22: Oncology | C22: Room | D22: 4 | E22: 45652 | F22: In Use
A23: R3855 | B23: Orthopedics | C23: N/A | D23: 0 | F23: Unavailable
A24: R8405 | B24: Neurology | C24: Technician | D24: 5 | E24: 45635 | F24: Available
A25: R5984 | B25: Orthopedics | C25: Equipment | D25: 3 | E25: 45644 | F25: In Use
A26: R6968 | B26: General Medicine | C26: Doctor | D26: 1 | E26: 45641 | F26: Available
A27: R7116 | B27: Cardiology | C27: Technician | D27: 8 | E27: 45392 | F27: Available
A28: R4399 | B28: General Medicine | C28: Room | D28: 0 | E28: 45558 | F28: Under Maintenance
A29: R6261 | B29: Neurology | C29: Equipment | D29: 0 | E29: 45486 | F29: Under Maintenance
A30: R9923 | B30: Cardiology | C30: Technician | D30: 8 | E30: 45322 | F30: Available
A31: R6097 | B31: Neurology | C31: Nurse | D31: 9 | E31: 45520 | F31: Available
A32: R1624 | B32: Oncology | C32: Room | D32: 2 | E32: 45622 | F32: In Use
A33: R6385 | B33: Oncology | C33: Doctor | D33: 0 | E33: 45642 | F33: Unavailable
A34: R2625 | B34: Neurology | C34: Equipment | D34: 0 | E34: 45384 | F34: Under Maintenance
A35: R3097 | B35: Orthopedics | C35: Room | D35: 0 | E35: 45446 | F35: Under Maintenance
... A45: R2833 | B45: General Medicine | C45: Equipment | D45: 3 | E45: 45507 | F45: In Use
A46: N/A | B46: Oncology | C46: N/A | D46: 1 | F46: Available
A47: R5799 | B47: General Medicine | C47: Nurse | D47: 9 | E47: 45313 | F47: Available
A48: R2825 | B48: Pediatric | C48: Technician | D48: 8 | E48: 45347 | F48: Available
A49: R5252 | B49: Pediatric | C49: Nurse | D49: 7 | E49: 45466 | F49: Available
A50: R7354 | B50: Pediatric | C50: Doctor | D50: 9 | E50: 45350 | F50: Available
A51: R2717 | B51: Cardiology | C51: Technician | D51: 3 | E51: 45590 | F51: Available
...

Sheet Pivot Tables- Appointment Data
A3: Count of AppointmentID | B3: Hour | P3: Row Labels | Q3: Count of AppointmentID | S3: Hour | T3: 08AM | U3: 09AM | V3: 10AM | W3: 11AM | X3: 12PM | Y3: 1PM | Z3: 2PM | AA3: 3PM | AB3: 4PM | AC3: 5PM | AD3: 6M | AE3: Grand Total
A4: Department | C4: 0.33333333 | D4: 0.375 | E4: 0.41666667 | F4: 0.45833333 | G4: 0.5 | H4: 0.54166667 | I4: 0.58333333 | J4: 0.625 | K4: 0.66666667 | L4: 0.70833333 | M4: 0.75 | N4: Grand Total | P4: Monday | Q4: 34 | S4: Number of appointments | T4: 18 | U4: 15 | V4: 14 | W4: 17 | X4: 18 | Y4: 12 | Z4: 13 | AA4: 19 | AB4: 18 | AC4: 20 | AD4: 27 | AE4: 200
A5: Cardiology | B5: 1 | C5: 5 | D5: 2 | F5: 3 | G5: 6 | H5: 2 | I5: 4 | J5: 7 | K5: 2 | L5: 4 | M5: 2 | N5: 38 | P5: Tuesday | Q5: 27 | S5: % of low satisfaction score | T5: 0.16666667 | U5: 0.052631579 | V5: 0.071428571 | W5: 0.1875 | X5: 0.052631579 | Y5: 0.11111111 | Z5: 0.13333333 | AA5: 0.1 | AB5: 0.21052632 | AC5: 0.095238095 | AD5: 0.25 | AE5: 0.13636364
A6: General Medicine | B6: 1 | C6: 3 | D6: 2 | E6: 2 | F6: 2 | G6: 2 | H6: 3 | I6: 2 | J6: 1 | K6: 3 | L6: 2 | M6: 4 | N6: 27 | P6: Wednesday | Q6: 27
A7: N/A | B7: 1 | N7: 1 | P7: Thursday | Q7: 23
A8: Neurology | B8: 1 | C8: 3 | D8: 1 | E8: 5 | F8: 4 | G8: 6 | I8: 2 | J8: 4 | K8: 2 | L8: 2 | M8: 5 | N8: 35 | P8: Friday | Q8: 26
A9: Oncology | B9: 3 | C9: 1 | D9: 3 | E9: 1 | F9: 3 | G9: 2 | H9: 2 | J9: 3 | K9: 6 | L9: 3 | M9: 5 | N9: 32 | P9: Saturday | Q9: 31
A10: Orthopedics | C10: 2 | D10: 2 | E10: 1 | F10: 3 | G10: 1 | H10: 2 | I10: 2 | J10: 4 | K10: 2 | L10: 5 | M10: 6 | N10: 30 | P10: Sunday | Q10: 30
A11: Pediatric | B11: 2 | C11: 4 | D11: 5 | E11: 5 | F11: 2 | G11: 1 | H11: 3 | I11: 3 | K11: 3 | L11: 4 | M11: 5 | N11: 37 | P11: (blank) | Q11: 2
A12: Grand Total | B12: 9 | C12: 18 | D12: 15 | E12: 14 | F12: 17 | G12: 18 | H12: 12 | I12: 13 | J12: 19 | K12: 18 | L12: 20 | M12: 27 | N12: 200 | P12: Grand Total | Q12: 200

Sheet Pivot Tables- Feedback Data
A3: Count of FeedbackID | B3: feedback
A4: Department | B4: High | C4: Low | D4: Grand Total
A5: Cardiology | B5: 0.93939394 | C5: 0.060606061 | D5: 1
A6: General Medicine | B6: 0.80769231 | C6: 0.19230769 | D6: 1
A7: N/A | B7: 1 | C7: 0 | D7: 1
A8: Neurology | B8: 0.97058824 | C8: 0.029411765 | D8: 1
A9: Oncology | B9: 0.8125 | C9: 0.1875 | D9: 1
A10: Orthopedics | B10: 0.72413793 | C10: 0.27586207 | D10: 1
A11: Pediatric | B11: 0.86486486 | C11: 0.13513514 | D11: 1
A12: Grand Total | B12: 0.86363636 | C12: 0.13636364 | D12: 1
A14: Count of FeedbackID
A15: Appointment hour | B15: High | C15: Low | D15: Grand Total
A16: 0.33333333 | B16: 0.83333333 | C16: 0.16666667 | D16: 1
A17: 0.375 | B17: 0.94736842 | C17: 0.052631579 | D17: 1
A18: 0.41666667 | B18: 0.92857143 | C18: 0.071428571 | D18: 1
A19: 0.45833333 | B19: 0.8125 | C19: 0.1875 | D19: 1
A20: 0.5 | B20: 0.94736842 | C20: 0.052631579 | D20: 1
A21: 0.54166667 | B21: 0.88888889 | C21: 0.11111111 | D21: 1
A22: 0.58333333 | B22: 0.86666667 | C22: 0.13333333 | D22: 1
A23: 0.625 | B23: 0.9 | C23: 0.1 | D23: 1
A24: 0.66666667 | B24: 0.78947368 | C24: 0.21052632 | D24: 1
A25: 0.70833333 | B25: 0.9047619 | C25: 0.095238095 | D25: 1
A26: 0.75 | B26: 0.75 | C26: 0.25 | D26: 1
A27: Grand Total | B27: 0.86363636 | C27: 0.13636364 | D27: 1

Sheet Pivot Tables- Resource Data
A3: Department | B3: Average of UsageHours
A4: Pediatric | B4: 4.85
A5: Cardiology | B5: 4.1818182
A6: Neurology | B6: 3.7941176
A7: Oncology | B7: 3.5555556
A8: General Medicine | B8: 3.4102564
A9: Orthopedics | B9: 3.3703704
A10: N/A | B10: 1.5
A11: Grand Total | B11: 3.85
