Workbook
Name Slicer_Availability: #N/A
Name Slicer_Department: #N/A
Name Slicer_Department1: #N/A
Name Slicer_Department2: #N/A
Name Slicer_ResourceType: #N/A
Name Slicer_Satisfaction_Level: #N/A
Name Slicer_Status: #N/A

Sheet Cleaned_Appointment
A1: Appointment Data Cleaned
A2: AppointmentID | B2: PatientID | C2: DoctorID | D2: Department | E2: Date | F2: Time | G2: Status | H2: Appointment Hour | I2: Day of the Week
A3: N/A | B3: P96099 | C3: D26 | D3: Cardiology | E3: 45292 | G3: N/A | H3: =IF(F3="","",TIME(HOUR(F3),0,0)) | I3: =TEXT(E3,"dddd") -> Monday
A4: A7515 | B4: P16262 | C4: D1 | D4: Orthopedics | E4: 45545 | F4: 0.54166667 | G4: No Show | H4: =IF(F4="","",TIME(HOUR(F4),0,0)) -> 0.54166667 | I4: =TEXT(E4,"dddd") -> Tuesday
A5: A7537 | B5: P99601 | C5: D30 | D5: Cardiology | E5: 45643 | F5: 0.625 | G5: Completed | H5: =IF(F5="","",TIME(HOUR(F5),0,0)) -> 0.625 | I5: =TEXT(E5,"dddd") -> Tuesday
A6: A8866 | B6: P55235 | C6: D30 | D6: Neurology | E6: 45482 | F6: 0.64583333 | G6: Rescheduled | H6: =IF(F6="","",TIME(HOUR(F6),0,0)) -> 0.625 | I6: =TEXT(E6,"dddd") -> Tuesday
A7: A3039 | B7: P93372 | C7: D23 | D7: Pediatric | E7: 45516 | F7: 0.75 | G7: Cancelled | H7: =IF(F7="","",TIME(HOUR(F7),0,0)) -> 0.75 | I7: =TEXT(E7,"dddd") -> Monday
A8: A3237 | B8: P84444 | C8: D1 | D8: Pediatric | E8: 45357 | F8: 0.72916667 | G8: Rescheduled | H8: =IF(F8="","",TIME(HOUR(F8),0,0)) -> 0.70833333 | I8: =TEXT(E8,"dddd") -> Wednesday
A9: A8127 | B9: P41013 | C9: D24 | D9: Neurology | E9: 45383 | F9: 0.45833333 | G9: No Show | H9: =IF(F9="","",TIME(HOUR(F9),0,0)) -> 0.45833333 | I9: =TEXT(E9,"dddd") -> Monday
A10: A7025 | B10: P17235 | C10: D10 | D10: Neurology | E10: 45581 | F10: 0.625 | G10: No Show | H10: =IF(F10="","",TIME(HOUR(F10),0,0)) -> 0.625 | I10: =TEXT(E10,"dddd") -> Wednesday
A11: A8462 | B11: P35768 | C11: D8 | D11: Cardiology | E11: 45558 | F11: 0.64583333 | G11: Completed | H11: =IF(F11="","",TIME(HOUR(F11),0,0)) -> 0.625 | I11: =TEXT(E11,"dddd") -> Monday
A12: A9018 | B12: P28832 | C12: D14 | D12: Orthopedics | E12: 45395 | F12: 0.5625 | G12: Rescheduled | H12: =IF(F12="","",TIME(HOUR(F12),0,0)) -> 0.54166667 | I12: =TEXT(E12,"dddd") -> Saturday
A13: A7791 | B13: P29680 | C13: D28 | D13: Orthopedics | E13: 45460 | F13: 0.35416667 | G13: No Show | H13: =IF(F13="","",TIME(HOUR(F13),0,0)) -> 0.33333333 | I13: =TEXT(E13,"dddd") -> Monday
A14: A4362 | B14: P93978 | C14: D5 | D14: Orthopedics | E14: 45519 | F14: 0.64583333 | G14: No Show | H14: =IF(F14="","",TIME(HOUR(F14),0,0)) -> 0.625 | I14: =TEXT(E14,"dddd") -> Thursday
A15: N/A | B15: P83760 | C15: D1 | D15: Pediatric | E15: 45305 | G15: Cancelled | H15: =IF(F15="","",TIME(HOUR(F15),0,0)) | I15: =TEXT(E15,"dddd") -> Sunday
A16: A1132 | B16: P41254 | C16: D23 | D16: Cardiology | E16: 45344 | F16: 0.33333333 | G16: Completed | H16: =IF(F16="","",TIME(HOUR(F16),0,0)) -> 0.33333333 | I16: =TEXT(E16,"dddd") -> Thursday
A17: A6499 | B17: P73818 | C17: D6 | D17: Orthopedics | E17: 45311 | F17: 0.75 | G17: Rescheduled | H17: =IF(F17="","",TIME(HOUR(F17),0,0)) -> 0.75 | I17: =TEXT(E17,"dddd") -> Saturday
A18: A2196 | B18: P79312 | C18: D14 | D18: Neurology | E18: 45589 | F18: 0.625 | G18: Completed | H18: =IF(F18="","",TIME(HOUR(F18),0,0)) -> 0.625 | I18: =TEXT(E18,"dddd") -> Thursday
A19: A7135 | B19: P82827 | C19: D23 | D19: Neurology | E19: 45615 | F19: 0.60416667 | G19: Completed | H19: =IF(F19="","",TIME(HOUR(F19),0,0)) -> 0.58333333 | I19: =TEXT(E19,"dddd") -> Tuesday
A20: A8788 | B20: P25878 | C20: D28 | D20: Pediatric | E20: 45521 | F20: 0.66666667 | G20: Cancelled | H20: =IF(F20="","",TIME(HOUR(F20),0,0)) -> 0.66666667 | I20: =TEXT(E20,"dddd") -> Saturday
A21: A1284 | B21: P93291 | C21: D6 | D21: Neurology | E21: 45476 | F21: 0.75 | G21: Rescheduled | H21: =IF(F21="","",TIME(HOUR(F21),0,0)) -> 0.75 | I21: =TEXT(E21,"dddd") -> Wednesday
A22: A7527 | B22: P14299 | C22: D29 | D22: Cardiology | E22: 45652 | F22: 0.52083333 | G22: Cancelled | H22: =IF(F22="","",TIME(HOUR(F22),0,0)) -> 0.5 | I22: =TEXT(E22,"dddd") -> Thursday
A23: A5514 | B23: P90461 | C23: D15 | D23: Oncology | E23: 45640 | F23: 0.54166667 | G23: Cancelled | H23: =IF(F23="","",TIME(HOUR(F23),0,0)) -> 0.54166667 | I23: =TEXT(E23,"dddd") -> Saturday
A24: A4853 | B24: P77174 | C24: D11 | D24: Pediatric | E24: 45635 | F24: 0.39583333 | G24: Rescheduled | H24: =IF(F24="","",TIME(HOUR(F24),0,0)) -> 0.375 | I24: =TEXT(E24,"dddd") -> Monday
A25: A4504 | B25: P38694 | C25: D14 | D25: General Medicine | E25: 45644 | F25: 0.41666667 | G25: No Show | H25: =IF(F25="","",TIME(HOUR(F25),0,0)) -> 0.41666667 | I25: =TEXT(E25,"dddd") -> Wednesday
A26: A2106 | B26: P45916 | C26: D25 | D26: General Medicine | E26: 45641 | F26: 0.75 | G26: Rescheduled | H26: =IF(F26="","",TIME(HOUR(F26),0,0)) -> 0.75 | I26: =TEXT(E26,"dddd") -> Sunday
A27: N/A | B27: P98707 | C27: D20 | D27: General Medicine | F27: 0.54166667 | G27: N/A | H27: =IF(F27="","",TIME(HOUR(F27),0,0)) -> 0.54166667
A28: A6156 | B28: P68619 | C28: D11 | D28: Pediatric | E28: 45558 | F28: 0.75 | G28: Completed | H28: =IF(F28="","",TIME(HOUR(F28),0,0)) -> 0.75 | I28: =TEXT(E28,"dddd") -> Monday
A29: A2963 | B29: P11071 | C29: D13 | D29: Orthopedics | E29: 45486 | F29: 0.77083333 | G29: Cancelled | H29: =IF(F29="","",TIME(HOUR(F29),0,0)) -> 0.75 | I29: =TEXT(E29,"dddd") -> Saturday
A30: A1511 | B30: P18878 | C30: D27 | D30: Pediatric | E30: 45322 | F30: 0.75 | G30: No Show | H30: =IF(F30="","",TIME(HOUR(F30),0,0)) -> 0.75 | I30: =TEXT(E30,"dddd") -> Wednesday
A31: A1949 | B31: P88817 | C31: D28 | D31: Pediatric | E31: 45520 | F31: 0.66666667 | G31: Cancelled | H31: =IF(F31="","",TIME(HOUR(F31),0,0)) -> 0.66666667 | I31: =TEXT(E31,"dddd") -> Friday
A32: A9088 | B32: P70452 | C32: D7 | D32: Neurology | E32: 45622 | F32: 0.41666667 | G32: No Show | H32: =IF(F32="","",TIME(HOUR(F32),0,0)) -> 0.41666667 | I32: =TEXT(E32,"dddd") -> Tuesday
A33: A1384 | B33: P79213 | C33: D13 | D33: General Medicine | E33: 45642 | F33: 0.35416667 | G33: Rescheduled | H33: =IF(F33="","",TIME(HOUR(F33),0,0)) -> 0.33333333 | I33: =TEXT(E33,"dddd") -> Monday
A34: A4140 | B34: P92292 | C34: D17 | D34: Orthopedics | E34: 45384 | F34: 0.72916667 | G34: No Show | H34: =IF(F34="","",TIME(HOUR(F34),0,0)) -> 0.70833333 | I34: =TEXT(E34,"dddd") -> Tuesday
A35: A6170 | B35: P46858 | C35: D17 | D35: Oncology | E35: 45446 | F35: 0.64583333 | G35: Rescheduled | H35: =IF(F35="","",TIME(HOUR(F35),0,0)) -> 0.625 | I35: =TEXT(E35,"dddd") -> Monday
A36: A5704 | B36: P10337 | C36: D12 | D36: Neurology | E36: 45383 | F36: 0.41666667 | G36: Cancelled | H36: =IF(F36="","",TIME(HOUR(F36),0,0)) -> 0.41666667 | I36: =TEXT(E36,"dddd") -> Monday
A37: A1762 | B37: P76416 | C37: D26 | D37: Oncology | E37: 45646 | F37: 0.5625 | G37: No Show | H37: =IF(F37="","",TIME(HOUR(F37),0,0)) -> 0.54166667 | I37: =TEXT(E37,"dddd") -> Friday
A38: A3377 | B38: P47558 | C38: D30 | D38: Orthopedics | E38: 45647 | F38: 0.6875 | G38: No Show | H38: =IF(F38="","",TIME(HOUR(F38),0,0)) -> 0.66666667 | I38: =TEXT(E38,"dddd") -> Saturday
A39: A7484 | B39: P10851 | C39: D11 | D39: General Medicine | E39: 45416 | F39: 0.6875 | G39: Completed | H39: =IF(F39="","",TIME(HOUR(F39),0,0)) -> 0.66666667 | I39: =TEXT(E39,"dddd") -> Saturday
... A58: A3495 | B58: P27259 | C58: D3 | D58: Neurology | E58: 45551 | F58: 0.64583333 | G58: Cancelled | H58: =IF(F58="","",TIME(HOUR(F58),0,0)) -> 0.625 | I58: =TEXT(E58,"dddd") -> Monday
A59: N/A | B59: P86378 | C59: D19 | D59: Neurology | G59: N/A | H59: =IF(F59="","",TIME(HOUR(F59),0,0))
A60: A9488 | B60: P11866 | C60: D7 | D60: General Medicine | E60: 45585 | F60: 0.75 | G60: Cancelled | H60: =IF(F60="","",TIME(HOUR(F60),0,0)) -> 0.75 | I60: =TEXT(E60,"dddd") -> Sunday
A61: A5762 | B61: P82148 | C61: D6 | D61: Oncology | E61: 45517 | F61: 0.75 | G61: No Show | H61: =IF(F61="","",TIME(HOUR(F61),0,0)) -> 0.75 | I61: =TEXT(E61,"dddd") -> Tuesday
A62: A8076 | B62: P96356 | C62: D6 | D62: Neurology | E62: 45623 | F62: 0.375 | G62: Completed | H62: =IF(F62="","",TIME(HOUR(F62),0,0)) -> 0.375 | I62: =TEXT(E62,"dddd") -> Wednesday
A63: A9964 | B63: P95475 | C63: D1 | D63: Neurology | E63: 45298 | F63: 0.66666667 | G63: No Show | H63: =IF(F63="","",TIME(HOUR(F63),0,0)) -> 0.66666667 | I63: =TEXT(E63,"dddd") -> Sunday
A64: A8328 | B64: P24760 | C64: D3 | D64: Oncology | E64: 45350 | F64: 0.47916667 | G64: No Show | H64: =IF(F64="","",TIME(HOUR(F64),0,0)) -> 0.45833333 | I64: =TEXT(E64,"dddd") -> Wednesday
A65: A3096 | B65: P94013 | C65: D20 | D65: Cardiology | E65: 45545 | F65: 0.72916667 | G65: Cancelled | H65: =IF(F65="","",TIME(HOUR(F65),0,0)) -> 0.70833333 | I65: =TEXT(E65,"dddd") -> Tuesday
A66: A5851 | B66: P28262 | C66: D30 | D66: Neurology | E66: 45648 | F66: 0.45833333 | G66: Rescheduled | H66: =IF(F66="","",TIME(HOUR(F66),0,0)) -> 0.45833333 | I66: =TEXT(E66,"dddd") -> Sunday
A67: A9029 | B67: P27012 | C67: D4 | D67: General Medicine | E67: 45307 | F67: 0.77083333 | G67: Rescheduled | H67: =IF(F67="","",TIME(HOUR(F67),0,0)) -> 0.75 | I67: =TEXT(E67,"dddd") -> Tuesday
A68: A5016 | B68: P42600 | C68: D11 | D68: General Medicine | E68: 45617 | F68: 0.6875 | G68: Cancelled | H68: =IF(F68="","",TIME(HOUR(F68),0,0)) -> 0.66666667 | I68: =TEXT(E68,"dddd") -> Thursday
A69: A8410 | B69: P59519 | C69: D1 | D69: Oncology | E69: 45387 | F69: 0.5 | G69: Completed | H69: =IF(F69="","",TIME(HOUR(F69),0,0)) -> 0.5 | I69: =TEXT(E69,"dddd") -> Friday
A70: A6602 | B70: P87869 | C70: D13 | D70: General Medicine | E70: 45485 | F70: 0.70833333 | G70: No Show | H70: =IF(F70="","",TIME(HOUR(F70),0,0)) -> 0.70833333 | I70: =TEXT(E70,"dddd") -> Friday
A71: N/A | B71: P14071 | C71: D2 | D71: Oncology | E71: 45292 | G71: N/A | H71: =IF(F71="","",TIME(HOUR(F71),0,0)) | I71: =TEXT(E71,"dddd") -> Monday
A72: A4630 | B72: P57426 | C72: D5 | D72: Cardiology | E72: 45410 | F72: 0.77083333 | G72: No Show | H72: =IF(F72="","",TIME(HOUR(F72),0,0)) -> 0.75 | I72: =TEXT(E72,"dddd") -> Sunday
A73: A7337 | B73: P77563 | C73: D8 | D73: Neurology | E73: 45457 | F73: 0.33333333 | G73: Rescheduled | H73: =IF(F73="","",TIME(HOUR(F73),0,0)) -> 0.33333333 | I73: =TEXT(E73,"dddd") -> Friday
A74: A6960 | B74: P29377 | C74: D12 | D74: Orthopedics | E74: 45407 | F74: 0.75 | G74: No Show | H74: =IF(F74="","",TIME(HOUR(F74),0,0)) -> 0.75 | I74: =TEXT(E74,"dddd") -> Thursday
A75: A6763 | B75: P68223 | C75: D5 | D75: Neurology | E75: 45416 | F75: 0.47916667 | G75: Rescheduled | H75: =IF(F75="","",TIME(HOUR(F75),0,0)) -> 0.45833333 | I75: =TEXT(E75,"dddd") -> Saturday
A76: A2399 | B76: P55949 | C76: D17 | D76: Pediatric | E76: 45493 | F76: 0.77083333 | G76: Completed | H76: =IF(F76="","",TIME(HOUR(F76),0,0)) -> 0.75 | I76: =TEXT(E76,"dddd") -> Saturday
A77: A7962 | B77: P23588 | C77: D23 | D77: Cardiology | E77: 45392 | F77: 0.33333333 | G77: Completed | H77: =IF(F77="","",TIME(HOUR(F77),0,0)) -> 0.33333333 | I77: =TEXT(E77,"dddd") -> Wednesday
A78: A2839 | B78: P73075 | C78: D28 | D78: Oncology | E78: 45382 | F78: 0.375 | G78: No Show | H78: =IF(F78="","",TIME(HOUR(F78),0,0)) -> 0.375 | I78: =TEXT(E78,"dddd") -> Sunday
A79: A4322 | B79: P82492 | C79: D6 | D79: Neurology | E79: 45651 | F79: 0.5 | G79: Rescheduled | H79: =IF(F79="","",TIME(HOUR(F79),0,0)) -> 0.5 | I79: =TEXT(E79,"dddd") -> Wednesday
A80: A4269 | B80: P77493 | C80: D6 | D80: Orthopedics | E80: 45464 | F80: 0.625 | G80: Cancelled | H80: =IF(F80="","",TIME(HOUR(F80),0,0)) -> 0.625 | I80: =TEXT(E80,"dddd") -> Friday
A81: A2273 | B81: P22316 | C81: D22 | D81: Orthopedics | E81: 45504 | F81: 0.58333333 | G81: No Show | H81: =IF(F81="","",TIME(HOUR(F81),0,0)) -> 0.58333333 | I81: =TEXT(E81,"dddd") -> Wednesday
A82: A5011 | B82: P49994 | C82: D27 | D82: General Medicine | E82: 45594 | F82: 0.70833333 | G82: Completed | H82: =IF(F82="","",TIME(HOUR(F82),0,0)) -> 0.70833333 | I82: =TEXT(E82,"dddd") -> Tuesday
A83: A1280 | B83: P71033 | C83: D5 | D83: Oncology | E83: 45614 | F83: 0.66666667 | G83: Cancelled | H83: =IF(F83="","",TIME(HOUR(F83),0,0)) -> 0.66666667 | I83: =TEXT(E83,"dddd") -> Monday
... A91: A7866 | B91: P94928 | C91: D14 | D91: Orthopedics | E91: 45468 | F91: 0.625 | G91: Completed | H91: =IF(F91="","",TIME(HOUR(F91),0,0)) -> 0.625 | I91: =TEXT(E91,"dddd") -> Tuesday
A92: N/A | B92: P50275 | C92: D22 | D92: Oncology | E92: 45305 | G92: N/A | H92: =IF(F92="","",TIME(HOUR(F92),0,0)) | I92: =TEXT(E92,"dddd") -> Sunday
A93: A4066 | B93: P73844 | C93: D11 | D93: Orthopedics | E93: 45390 | F93: 0.70833333 | G93: No Show | H93: =IF(F93="","",TIME(HOUR(F93),0,0)) -> 0.70833333 | I93: =TEXT(E93,"dddd") -> Monday
A94: A1698 | B94: P50711 | C94: D17 | D94: General Medicine | E94: 45654 | F94: 0.58333333 | G94: Rescheduled | H94: =IF(F94="","",TIME(HOUR(F94),0,0)) -> 0.58333333 | I94: =TEXT(E94,"dddd") -> Saturday
A95: A9430 | B95: P30920 | C95: D23 | D95: Pediatric | E95: 45454 | F95: 0.45833333 | G95: Cancelled | H95: =IF(F95="","",TIME(HOUR(F95),0,0)) -> 0.45833333 | I95: =TEXT(E95,"dddd") -> Tuesday
A96: A4495 | B96: P26650 | C96: D1 | D96: Orthopedics | E96: 45449 | F96: 0.77083333 | G96: Completed | H96: =IF(F96="","",TIME(HOUR(F96),0,0)) -> 0.75 | I96: =TEXT(E96,"dddd") -> Thursday
A97: A3333 | B97: P22791 | C97: D1 | D97: Oncology | E97: 45600 | F97: 0.66666667 | G97: Cancelled | H97: =IF(F97="","",TIME(HOUR(F97),0,0)) -> 0.66666667 | I97: =TEXT(E97,"dddd") -> Monday
A98: A5600 | B98: P17310 | C98: D13 | D98: General Medicine | E98: 45370 | F98: 0.66666667 | G98: Completed | H98: =IF(F98="","",TIME(HOUR(F98),0,0)) -> 0.66666667 | I98: =TEXT(E98,"dddd") -> Tuesday
A99: A4561 | B99: P61087 | C99: D25 | D99: Pediatric | E99: 45389 | F99: 0.35416667 | G99: Cancelled | H99: =IF(F99="","",TIME(HOUR(F99),0,0)) -> 0.33333333 | I99: =TEXT(E99,"dddd") -> Sunday
A100: A1739 | B100: P81824 | C100: D3 | D100: Neurology | E100: 45438 | F100: 0.4375 | G100: Cancelled | H100: =IF(F100="","",TIME(HOUR(F100),0,0)) -> 0.41666667 | I100: =TEXT(E100,"dddd") -> Sunday
A101: A2109 | B101: P24131 | C101: D21 | D101: Cardiology | E101: 45457 | F101: 0.5 | G101: No Show | H101: =IF(F101="","",TIME(HOUR(F101),0,0)) -> 0.5 | I101: =TEXT(E101,"dddd") -> Friday
A102: A1157 | B102: P38330 | C102: D2 | D102: Oncology | E102: 45428 | F102: 0.77083333 | G102: Rescheduled | H102: =IF(F102="","",TIME(HOUR(F102),0,0)) -> 0.75 | I102: =TEXT(E102,"dddd") -> Thursday
A103: A6884 | B103: P65114 | C103: D18 | D103: Orthopedics | E103: 45367 | F103: 0.41666667 | G103: Completed | H103: =IF(F103="","",TIME(HOUR(F103),0,0)) -> 0.41666667 | I103: =TEXT(E103,"dddd") -> Saturday
A104: A4146 | B104: P88218 | C104: D11 | D104: Pediatric | E104: 45529 | F104: 0.4375 | G104: Completed | H104: =IF(F104="","",TIME(HOUR(F104),0,0)) -> 0.41666667 | I104: =TEXT(E104,"dddd") -> Sunday
... A122: A7880 | B122: P61404 | C122: D17 | D122: Cardiology | E122: 45482 | F122: 0.47916667 | G122: Rescheduled | H122: =IF(F122="","",TIME(HOUR(F122),0,0)) -> 0.45833333 | I122: =TEXT(E122,"dddd") -> Tuesday
A123: N/A | B123: P48563 | C123: D7 | D123: N/A | E123: 45538 | G123: Completed | H123: =IF(F123="","",TIME(HOUR(F123),0,0)) | I123: =TEXT(E123,"dddd") -> Tuesday
A124: A8498 | B124: P68408 | C124: D17 | D124: Neurology | E124: 45545 | F124: 0.5 | G124: Completed | H124: =IF(F124="","",TIME(HOUR(F124),0,0)) -> 0.5 | I124: =TEXT(E124,"dddd") -> Tuesday
A125: A6824 | B125: P80709 | C125: D26 | D125: Cardiology | E125: 45515 | F125: 0.64583333 | G125: Rescheduled | H125: =IF(F125="","",TIME(HOUR(F125),0,0)) -> 0.625 | I125: =TEXT(E125,"dddd") -> Sunday
A126: A1087 | B126: P22483 | C126: D7 | D126: Orthopedics | E126: 45423 | F126: 0.58333333 | G126: Completed | H126: =IF(F126="","",TIME(HOUR(F126),0,0)) -> 0.58333333 | I126: =TEXT(E126,"dddd") -> Saturday
A127: A4414 | B127: P29433 | C127: D11 | D127: General Medicine | E127: 45582 | F127: 0.5625 | G127: Completed | H127: =IF(F127="","",TIME(HOUR(F127),0,0)) -> 0.54166667 | I127: =TEXT(E127,"dddd") -> Thursday
A128: A3515 | B128: P81174 | C128: D23 | D128: Orthopedics | E128: 45543 | F128: 0.70833333 | G128: Completed | H128: =IF(F128="","",TIME(HOUR(F128),0,0)) -> 0.70833333 | I128: =TEXT(E128,"dddd") -> Sunday
A129: A2655 | B129: P63392 | C129: D12 | D129: Cardiology | E129: 45324 | F129: 0.625 | G129: Rescheduled | H129: =IF(F129="","",TIME(HOUR(F129),0,0)) -> 0.625 | I129: =TEXT(E129,"dddd") -> Friday
A130: A3613 | B130: P24186 | C130: D24 | D130: General Medicine | E130: 45627 | F130: 0.64583333 | G130: Cancelled | H130: =IF(F130="","",TIME(HOUR(F130),0,0)) -> 0.625 | I130: =TEXT(E130,"dddd") -> Sunday
A131: A8377 | B131: P12075 | C131: D27 | D131: Pediatric | E131: 45568 | F131: 0.375 | G131: Completed | H131: =IF(F131="","",TIME(HOUR(F131),0,0)) -> 0.375 | I131: =TEXT(E131,"dddd") -> Thursday
A132: A6529 | B132: P36565 | C132: D25 | D132: Oncology | E132: 45535 | F132: 0.45833333 | G132: Cancelled | H132: =IF(F132="","",TIME(HOUR(F132),0,0)) -> 0.45833333 | I132: =TEXT(E132,"dddd") -> Saturday
A133: A2906 | B133: P17033 | C133: D24 | D133: Orthopedics | E133: 45537 | F133: 0.52083333 | G133: Completed | H133: =IF(F133="","",TIME(HOUR(F133),0,0)) -> 0.5 | I133: =TEXT(E133,"dddd") -> Monday
A134: A2994 | B134: P53406 | C134: D23 | D134: Cardiology | E134: 45492 | F134: 0.72916667 | G134: Cancelled | H134: =IF(F134="","",TIME(HOUR(F134),0,0)) -> 0.70833333 | I134: =TEXT(E134,"dddd") -> Friday
A135: A6194 | B135: P74577 | C135: D2 | D135: Oncology | E135: 45558 | F135: 0.41666667 | G135: Completed | H135: =IF(F135="","",TIME(HOUR(F135),0,0)) -> 0.41666667 | I135: =TEXT(E135,"dddd") -> Monday
... A151: A3214 | B151: P57937 | C151: D22 | D151: Cardiology | E151: 45616 | F151: 0.58333333 | G151: Cancelled | H151: =IF(F151="","",TIME(HOUR(F151),0,0)) -> 0.58333333 | I151: =TEXT(E151,"dddd") -> Wednesday
A152: N/A | B152: P31668 | C152: D5 | D152: Pediatric | E152: 45292 | G152: N/A | H152: =IF(F152="","",TIME(HOUR(F152),0,0)) | I152: =TEXT(E152,"dddd") -> Monday
A153: A9946 | B153: P82099 | C153: D16 | D153: Orthopedics | E153: 45594 | F153: 0.64583333 | G153: No Show | H153: =IF(F153="","",TIME(HOUR(F153),0,0)) -> 0.625 | I153: =TEXT(E153,"dddd") -> Tuesday
A154: A1914 | B154: P94085 | C154: D13 | D154: Pediatric | E154: 45619 | F154: 0.54166667 | G154: No Show | H154: =IF(F154="","",TIME(HOUR(F154),0,0)) -> 0.54166667 | I154: =TEXT(E154,"dddd") -> Saturday
A155: A8524 | B155: P50596 | C155: D4 | D155: Pediatric | E155: 45348 | F155: 0.4375 | G155: Rescheduled | H155: =IF(F155="","",TIME(HOUR(F155),0,0)) -> 0.41666667 | I155: =TEXT(E155,"dddd") -> Monday
A156: A2924 | B156: P52297 | C156: D1 | D156: Neurology | E156: 45504 | F156: 0.5 | G156: No Show | H156: =IF(F156="","",TIME(HOUR(F156),0,0)) -> 0.5 | I156: =TEXT(E156,"dddd") -> Wednesday
A157: A7356 | B157: P69830 | C157: D18 | D157: Cardiology | E157: 45558 | F157: 0.5 | G157: Completed | H157: =IF(F157="","",TIME(HOUR(F157),0,0)) -> 0.5 | I157: =TEXT(E157,"dddd") -> Monday
...

Sheet Cleaned_Feedback
A1: Feedback Data Cleaned
A2: FeedbackID | B2: PatientID | C2: Appointment Date | D2: Time | E2: Department | F2: Feedback Score | G2: Comments | H2: WaitTime( in min) | I2: Satisfaction Level | J2: Appointment Hour
A3: F1000 | B3: P99601 | C3: =VLOOKUP(B3,Cleaned_Appointment!$B$3:$F$202,4,FALSE) -> 45643 | D3: =VLOOKUP(B3,Cleaned_Appointment!$B$3:$F$202,5,FALSE) -> 0.625 | E3: Cardiology | F3: 4 | G3: Delayed response | H3: 45 | I3: =IF(F3>=4,"High","Low") -> High | J3: =IF(D3="","",TIME(HOUR(D3),0,0)) -> 0.625
A4: F1001 | B4: P36565 | C4: =VLOOKUP(B4,Cleaned_Appointment!$B$3:$F$202,4,FALSE) -> 45535 | D4: =VLOOKUP(B4,Cleaned_Appointment!$B$3:$F$202,5,FALSE) -> 0.45833333 | E4: Orthopedics | F4: 3 | G4: Needs improvement | H4: 45 | I4: =IF(F4>=4,"High","Low") -> Low | J4: =IF(D4="","",TIME(HOUR(D4),0,0)) -> 0.45833333
A5: F1002 | B5: P99601 | C5: =VLOOKUP(B5,Cleaned_Appointment!$B$3:$F$202,4,FALSE) -> 45643 | D5: =VLOOKUP(B5,Cleaned_Appointment!$B$3:$F$202,5,FALSE) -> 0.625 | E5: N/A | F5: 6.27 | G5: Excellent care | H5: 30 | I5: =IF(F5>=4,"High","Low") -> High | J5: =IF(D5="","",TIME(HOUR(D5),0,0)) -> 0.625
A6: F1003 | B6: P67499 | C6: =VLOOKUP(B6,Cleaned_Appointment!$B$3:$F$202,4,FALSE) -> 45350 | D6: =VLOOKUP(B6,Cleaned_Appointment!$B$3:$F$202,5,FALSE) -> 0.77083333 | E6: Neurology | F6: 9 | G6: Amazing team | H6: 30 | I6: =IF(F6>=4,"High","Low") -> High | J6: =IF(D6="","",TIME(HOUR(D6),0,0)) -> 0.75
A7: F1004 | B7: P49994 | C7: =VLOOKUP(B7,Cleaned_Appointment!$B$3:$F$202,4,FALSE) -> 45594 | D7: =VLOOKUP(B7,Cleaned_Appointment!$B$3:$F$202,5,FALSE) -> 0.70833333 | E7: Pediatric | F7: 8 | G7: Great doctors | H7: 45 | I7: =IF(F7>=4,"High","Low") -> High | J7: =IF(D7="","",TIME(HOUR(D7),0,0)) -> 0.70833333
A8: F1005 | B8: P31843 | C8: =VLOOKUP(B8,Cleaned_Appointment!$B$3:$F$202,4,FALSE) -> 45646 | D8: =VLOOKUP(B8,Cleaned_Appointment!$B$3:$F$202,5,FALSE) -> 0.4375 | E8: Pediatric | F8: 5 | G8: Satisfactory | H8: 45 | I8: =IF(F8>=4,"High","Low") -> High | J8: =IF(D8="","",TIME(HOUR(D8),0,0)) -> 0.41666667
A9: F1006 | B9: P63392 | C9: =VLOOKUP(B9,Cleaned_Appointment!$B$3:$F$202,4,FALSE) -> 45324 | D9: =VLOOKUP(B9,Cleaned_Appointment!$B$3:$F$202,5,FALSE) -> 0.625 | E9: Neurology | F9: 4 | G9: Delayed response | H9: 45 | I9: =IF(F9>=4,"High","Low") -> High | J9: =IF(D9="","",TIME(HOUR(D9),0,0)) -> 0.625
A10: F1007 | B10: P66658 | C10: =VLOOKUP(B10,Cleaned_Appointment!$B$3:$F$202,4,FALSE) -> 45634 | D10: =VLOOKUP(B10,Cleaned_Appointment!$B$3:$F$202,5,FALSE) -> 0.60416667 | E10: Neurology | F10: 7 | G10: Child-friendly staff | H10: 45 | I10: =IF(F10>=4,"High","Low") -> High | J10: =IF(D10="","",TIME(HOUR(D10),0,0)) -> 0.58333333
A11: F1008 | B11: P95953 | C11: =VLOOKUP(B11,Cleaned_Appointment!$B$3:$F$202,4,FALSE) -> 45325 | D11: =VLOOKUP(B11,Cleaned_Appointment!$B$3:$F$202,5,FALSE) -> 0.39583333 | E11: Cardiology | F11: 7 | G11: Child-friendly staff | H11: 45 | I11: =IF(F11>=4,"High","Low") -> High | J11: =IF(D11="","",TIME(HOUR(D11),0,0)) -> 0.375
A12: F1009 | B12: P80770 | C12: =VLOOKUP(B12,Cleaned_Appointment!$B$3:$F$202,4,FALSE) -> 45368 | D12: =VLOOKUP(B12,Cleaned_Appointment!$B$3:$F$202,5,FALSE) -> 0.375 | E12: Orthopedics | F12: 4 | G12: Delayed response | H12: 45 | I12: =IF(F12>=4,"High","Low") -> High | J12: =IF(D12="","",TIME(HOUR(D12),0,0)) -> 0.375
A13: F1010 | B13: P29680 | C13: =VLOOKUP(B13,Cleaned_Appointment!$B$3:$F$202,4,FALSE) -> 45460 | D13: =VLOOKUP(B13,Cleaned_Appointment!$B$3:$F$202,5,FALSE) -> 0.35416667 | E13: Orthopedics | F13: 4 | G13: Room cleanliness issue | H13: 45 | I13: =IF(F13>=4,"High","Low") -> High | J13: =IF(D13="","",TIME(HOUR(D13),0,0)) -> 0.33333333
A14: F1011 | B14: P93978 | C14: =VLOOKUP(B14,Cleaned_Appointment!$B$3:$F$202,4,FALSE) -> 45519 | D14: =VLOOKUP(B14,Cleaned_Appointment!$B$3:$F$202,5,FALSE) -> 0.64583333 | E14: Orthopedics | F14: 3 | G14: Long wait times | H14: 45 | I14: =IF(F14>=4,"High","Low") -> Low | J14: =IF(D14="","",TIME(HOUR(D14),0,0)) -> 0.625
... A19: F1016 | B19: P82827 | C19: =VLOOKUP(B19,Cleaned_Appointment!$B$3:$F$202,4,FALSE) -> 45615 | D19: =VLOOKUP(B19,Cleaned_Appointment!$B$3:$F$202,5,FALSE) -> 0.60416667 | E19: Neurology | F19: 5 | G19: Average | H19: 45 | I19: =IF(F19>=4,"High","Low") -> High | J19: =IF(D19="","",TIME(HOUR(D19),0,0)) -> 0.58333333
A20: F1017 | B20: P25878 | C20: =VLOOKUP(B20,Cleaned_Appointment!$B$3:$F$202,4,FALSE) -> 45521 | D20: =VLOOKUP(B20,Cleaned_Appointment!$B$3:$F$202,5,FALSE) -> 0.66666667 | E20: N/A | F20: 6.27 | G20: Helpful staff | I20: =IF(F20>=4,"High","Low") -> High | J20: =IF(D20="","",TIME(HOUR(D20),0,0)) -> 0.66666667
A21: F1018 | B21: P93291 | C21: =VLOOKUP(B21,Cleaned_Appointment!$B$3:$F$202,4,FALSE) -> 45476 | D21: =VLOOKUP(B21,Cleaned_Appointment!$B$3:$F$202,5,FALSE) -> 0.75 | E21: Neurology | F21: 8 | G21: Efficient process | H21: 45 | I21: =IF(F21>=4,"High","Low") -> High | J21: =IF(D21="","",TIME(HOUR(D21),0,0)) -> 0.75
A22: F1019 | B22: P14299 | C22: =VLOOKUP(B22,Cleaned_Appointment!$B$3:$F$202,4,FALSE) -> 45652 | D22: =VLOOKUP(B22,Cleaned_Appointment!$B$3:$F$202,5,FALSE) -> 0.52083333 | E22: Cardiology | F22: 8 | G22: Great doctors | H22: 45 | I22: =IF(F22>=4,"High","Low") -> High | J22: =IF(D22="","",TIME(HOUR(D22),0,0)) -> 0.5
A23: F1020 | B23: P90461 | C23: =VLOOKUP(B23,Cleaned_Appointment!$B$3:$F$202,4,FALSE) -> 45640 | D23: =VLOOKUP(B23,Cleaned_Appointment!$B$3:$F$202,5,FALSE) -> 0.54166667 | E23: Oncology | F23: 3 | G23: Needs improvement | H23: 45 | I23: =IF(F23>=4,"High","Low") -> Low | J23: =IF(D23="","",TIME(HOUR(D23),0,0)) -> 0.54166667
A24: F1021 | B24: P77174 | C24: =VLOOKUP(B24,Cleaned_Appointment!$B$3:$F$202,4,FALSE) -> 45635 | D24: =VLOOKUP(B24,Cleaned_Appointment!$B$3:$F$202,5,FALSE) -> 0.39583333 | E24: Pediatric | F24: 4 | G24: Delayed response | H24: 45 | I24: =IF(F24>=4,"High","Low") -> High | J24: =IF(D24="","",TIME(HOUR(D24),0,0)) -> 0.375
A25: F1022 | B25: P38694 | C25: =VLOOKUP(B25,Cleaned_Appointment!$B$3:$F$202,4,FALSE) -> 45644 | D25: =VLOOKUP(B25,Cleaned_Appointment!$B$3:$F$202,5,FALSE) -> 0.41666667 | E25: General Medicine | F25: 7 | G25: Child-friendly staff | H25: 45 | I25: =IF(F25>=4,"High","Low") -> High | J25: =IF(D25="","",TIME(HOUR(D25),0,0)) -> 0.41666667
A26: F1023 | B26: P45916 | C26: =VLOOKUP(B26,Cleaned_Appointment!$B$3:$F$202,4,FALSE) -> 45641 | D26: =VLOOKUP(B26,Cleaned_Appointment!$B$3:$F$202,5,FALSE) -> 0.75 | E26: General Medicine | F26: 4 | G26: Delayed response | H26: 45 | I26: =IF(F26>=4,"High","Low") -> High | J26: =IF(D26="","",TIME(HOUR(D26),0,0)) -> 0.75
A27: F1024 | B27: P67499 | C27: =VLOOKUP(B27,Cleaned_Appointment!$B$3:$F$202,4,FALSE) -> 45350 | D27: =VLOOKUP(B27,Cleaned_Appointment!$B$3:$F$202,5,FALSE) -> 0.77083333 | E27: General Medicine | F27: 9 | G27: Highly recommended | H27: 30 | I27: =IF(F27>=4,"High","Low") -> High | J27: =IF(D27="","",TIME(HOUR(D27),0,0)) -> 0.75
A28: F1025 | B28: P68619 | C28: =VLOOKUP(B28,Cleaned_Appointment!$B$3:$F$202,4,FALSE) -> 45558 | D28: =VLOOKUP(B28,Cleaned_Appointment!$B$3:$F$202,5,FALSE) -> 0.75 | E28: Pediatric | F28: 4 | G28: Delayed response | H28: 45 | I28: =IF(F28>=4,"High","Low") -> High | J28: =IF(D28="","",TIME(HOUR(D28),0,0)) -> 0.75
A29: F1026 | B29: P11071 | C29: =VLOOKUP(B29,Cleaned_Appointment!$B$3:$F$202,4,FALSE) -> 45486 | D29: =VLOOKUP(B29,Cleaned_Appointment!$B$3:$F$202,5,FALSE) -> 0.77083333 | E29: Orthopedics | F29: 7 | G29: Child-friendly staff | H29: 45 | I29: =IF(F29>=4,"High","Low") -> High | J29: =IF(D29="","",TIME(HOUR(D29),0,0)) -> 0.75
A30: F1027 | B30: P18878 | C30: =VLOOKUP(B30,Cleaned_Appointment!$B$3:$F$202,4,FALSE) -> 45322 | D30: =VLOOKUP(B30,Cleaned_Appointment!$B$3:$F$202,5,FALSE) -> 0.75 | E30: Pediatric | F30: 7 | G30: Satisfactory | H30: 45 | I30: =IF(F30>=4,"High","Low") -> High | J30: =IF(D30="","",TIME(HOUR(D30),0,0)) -> 0.75
A31: F1028 | B31: P88817 | C31: =VLOOKUP(B31,Cleaned_Appointment!$B$3:$F$202,4,FALSE) -> 45520 | D31: =VLOOKUP(B31,Cleaned_Appointment!$B$3:$F$202,5,FALSE) -> 0.66666667 | E31: Pediatric | F31: 3 | G31: Needs improvement | H31: 45 | I31: =IF(F31>=4,"High","Low") -> Low | J31: =IF(D31="","",TIME(HOUR(D31),0,0)) -> 0.66666667
A32: F1029 | B32: P70452 | C32: =VLOOKUP(B32,Cleaned_Appointment!$B$3:$F$202,4,FALSE) -> 45622 | D32: =VLOOKUP(B32,Cleaned_Appointment!$B$3:$F$202,5,FALSE) -> 0.41666667 | E32: Neurology | F32: 9 | G32: Excellent care | H32: 30 | I32: =IF(F32>=4,"High","Low") -> High | J32: =IF(D32="","",TIME(HOUR(D32),0,0)) -> 0.41666667
... A105: F1103 | B105: P29322 | C105: =VLOOKUP(B105,Cleaned_Appointment!$B$3:$F$202,4,FALSE) -> 45618 | D105: =VLOOKUP(B105,Cleaned_Appointment!$B$3:$F$202,5,FALSE) -> 0.77083333 | E105: Neurology | F105: 7 | G105: Satisfactory | H105: 45 | I105: =IF(F105>=4,"High","Low") -> High | J105: =IF(D105="","",TIME(HOUR(D105),0,0)) -> 0.75
A106: F1104 | B106: P64103 | C106: =VLOOKUP(B106,Cleaned_Appointment!$B$3:$F$202,4,FALSE) -> 45387 | D106: =VLOOKUP(B106,Cleaned_Appointment!$B$3:$F$202,5,FALSE) -> 0.375 | E106: N/A | F106: 6.27 | G106: N/A | I106: =IF(F106>=4,"High","Low") -> High | J106: =IF(D106="","",TIME(HOUR(D106),0,0)) -> 0.375
A107: F1105 | B107: P93372 | C107: =VLOOKUP(B107,Cleaned_Appointment!$B$3:$F$202,4,FALSE) -> 45516 | D107: =VLOOKUP(B107,Cleaned_Appointment!$B$3:$F$202,5,FALSE) -> 0.75 | E107: General Medicine | F107: 4 | G107: Delayed response | H107: 45 | I107: =IF(F107>=4,"High","Low") -> High | J107: =IF(D107="","",TIME(HOUR(D107),0,0)) -> 0.75
A108: F1106 | B108: P33026 | C108: =VLOOKUP(B108,Cleaned_Appointment!$B$3:$F$202,4,FALSE) -> 45608 | D108: =VLOOKUP(B108,Cleaned_Appointment!$B$3:$F$202,5,FALSE) -> 0.35416667 | E108: Orthopedics | F108: 8 | G108: Great doctors | H108: 45 | I108: =IF(F108>=4,"High","Low") -> High | J108: =IF(D108="","",TIME(HOUR(D108),0,0)) -> 0.33333333
A109: F1107 | B109: P47436 | C109: =VLOOKUP(B109,Cleaned_Appointment!$B$3:$F$202,4,FALSE) -> 45367 | D109: =VLOOKUP(B109,Cleaned_Appointment!$B$3:$F$202,5,FALSE) -> 0.60416667 | E109: Cardiology | F109: 8 | G109: Efficient process | H109: 45 | I109: =IF(F109>=4,"High","Low") -> High | J109: =IF(D109="","",TIME(HOUR(D109),0,0)) -> 0.58333333
A110: F1108 | B110: P48965 | C110: =VLOOKUP(B110,Cleaned_Appointment!$B$3:$F$202,4,FALSE) -> 45404 | D110: =VLOOKUP(B110,Cleaned_Appointment!$B$3:$F$202,5,FALSE) -> 0.75 | E110: Oncology | F110: 9 | G110: Highly recommended | H110: 30 | I110: =IF(F110>=4,"High","Low") -> High | J110: =IF(D110="","",TIME(HOUR(D110),0,0)) -> 0.75
A111: F1109 | B111: P20771 | C111: =VLOOKUP(B111,Cleaned_Appointment!$B$3:$F$202,4,FALSE) -> 45480 | D111: =VLOOKUP(B111,Cleaned_Appointment!$B$3:$F$202,5,FALSE) -> 0.6875 | E111: Pediatric | F111: 6 | G111: Very good | H111: 45 | I111: =IF(F111>=4,"High","Low") -> High | J111: =IF(D111="","",TIME(HOUR(D111),0,0)) -> 0.66666667
A112: F1110 | B112: P32966 | C112: =VLOOKUP(B112,Cleaned_Appointment!$B$3:$F$202,4,FALSE) -> 45444 | D112: =VLOOKUP(B112,Cleaned_Appointment!$B$3:$F$202,5,FALSE) -> 0.41666667 | E112: Pediatric | F112: 6 | G112: Very good | H112: 45 | I112: =IF(F112>=4,"High","Low") -> High | J112: =IF(D112="","",TIME(HOUR(D112),0,0)) -> 0.41666667
A113: F1111 | B113: P65077 | C113: =VLOOKUP(B113,Cleaned_Appointment!$B$3:$F$202,4,FALSE) -> 45472 | D113: =VLOOKUP(B113,Cleaned_Appointment!$B$3:$F$202,5,FALSE) -> 0.45833333 | E113: General Medicine | F113: 4 | G113: Delayed response | H113: 45 | I113: =IF(F113>=4,"High","Low") -> High | J113: =IF(D113="","",TIME(HOUR(D113),0,0)) -> 0.45833333
A114: F1112 | B114: P30147 | C114: =VLOOKUP(B114,Cleaned_Appointment!$B$3:$F$202,4,FALSE) -> 45303 | D114: =VLOOKUP(B114,Cleaned_Appointment!$B$3:$F$202,5,FALSE) -> 0.75 | E114: Oncology | F114: 3 | G114: Long wait times | H114: 45 | I114: =IF(F114>=4,"High","Low") -> Low | J114: =IF(D114="","",TIME(HOUR(D114),0,0)) -> 0.75
A115: F1113 | B115: P28668 | C115: =VLOOKUP(B115,Cleaned_Appointment!$B$3:$F$202,4,FALSE) -> 45541 | D115: =VLOOKUP(B115,Cleaned_Appointment!$B$3:$F$202,5,FALSE) -> 0.5 | E115: Pediatric | F115: 4 | G115: Delayed response | H115: 45 | I115: =IF(F115>=4,"High","Low") -> High | J115: =IF(D115="","",TIME(HOUR(D115),0,0)) -> 0.5
A116: F1114 | B116: P54890 | C116: =VLOOKUP(B116,Cleaned_Appointment!$B$3:$F$202,4,FALSE) -> 45486 | D116: =VLOOKUP(B116,Cleaned_Appointment!$B$3:$F$202,5,FALSE) -> 0.33333333 | E116: Oncology | F116: 4 | G116: Room cleanliness issue | H116: 45 | I116: =IF(F116>=4,"High","Low") -> High | J116: =IF(D116="","",TIME(HOUR(D116),0,0)) -> 0.33333333
A117: F1115 | B117: P77589 | C117: =VLOOKUP(B117,Cleaned_Appointment!$B$3:$F$202,4,FALSE) -> 45491 | D117: =VLOOKUP(B117,Cleaned_Appointment!$B$3:$F$202,5,FALSE) -> 0.41666667 | E117: Pediatric | F117: 3 | G117: Long wait times | H117: 45 | I117: =IF(F117>=4,"High","Low") -> Low | J117: =IF(D117="","",TIME(HOUR(D117),0,0)) -> 0.41666667
A118: F1116 | B118: P59917 | C118: =VLOOKUP(B118,Cleaned_Appointment!$B$3:$F$202,4,FALSE) -> 45504 | D118: =VLOOKUP(B118,Cleaned_Appointment!$B$3:$F$202,5,FALSE) -> 0.41666667 | E118: General Medicine | F118: 7 | G118: Satisfactory | H118: 45 | I118: =IF(F118>=4,"High","Low") -> High | J118: =IF(D118="","",TIME(HOUR(D118),0,0)) -> 0.41666667
... A196: F1195 | B196: P30694 | C196: =VLOOKUP(B196,Cleaned_Appointment!$B$3:$F$202,4,FALSE) -> 45377 | D196: =VLOOKUP(B196,Cleaned_Appointment!$B$3:$F$202,5,FALSE) -> 0.39583333 | E196: General Medicine | F196: 6 | G196: Very good | H196: 45 | I196: =IF(F196>=4,"High","Low") -> High | J196: =IF(D196="","",TIME(HOUR(D196),0,0)) -> 0.375
A197: F1196 | B197: P59755 | C197: =VLOOKUP(B197,Cleaned_Appointment!$B$3:$F$202,4,FALSE) -> 45645 | D197: =VLOOKUP(B197,Cleaned_Appointment!$B$3:$F$202,5,FALSE) -> 0.375 | E197: N/A | F197: 6.27 | G197: Highly recommended | I197: =IF(F197>=4,"High","Low") -> High | J197: =IF(D197="","",TIME(HOUR(D197),0,0)) -> 0.375
A198: F1197 | B198: P80770 | C198: =VLOOKUP(B198,Cleaned_Appointment!$B$3:$F$202,4,FALSE) -> 45368 | D198: =VLOOKUP(B198,Cleaned_Appointment!$B$3:$F$202,5,FALSE) -> 0.375 | E198: Oncology | F198: 3 | G198: Needs improvement | H198: 45 | I198: =IF(F198>=4,"High","Low") -> Low | J198: =IF(D198="","",TIME(HOUR(D198),0,0)) -> 0.375
A199: F1198 | B199: P67482 | C199: =VLOOKUP(B199,Cleaned_Appointment!$B$3:$F$202,4,FALSE) -> 45432 | D199: =VLOOKUP(B199,Cleaned_Appointment!$B$3:$F$202,5,FALSE) -> 0.47916667 | E199: Oncology | F199: 9 | G199: Amazing team | H199: 30 | I199: =IF(F199>=4,"High","Low") -> High | J199: =IF(D199="","",TIME(HOUR(D199),0,0)) -> 0.45833333
A200: F1199 | B200: P13204 | C200: =VLOOKUP(B200,Cleaned_Appointment!$B$3:$F$202,4,FALSE) -> 45568 | D200: =VLOOKUP(B200,Cleaned_Appointment!$B$3:$F$202,5,FALSE) -> 0.47916667 | E200: Cardiology | F200: 5 | G200: Average | H200: 45 | I200: =IF(F200>=4,"High","Low") -> High | J200: =IF(D200="","",TIME(HOUR(D200),0,0)) -> 0.45833333

Sheet Cleaned_Resource
A1: Resource Data Cleaned
A2: ResourceID | B2: Department | C2: ResourceType | D2: UsageHours | E2: Date | F2: Availability
A3: R5487 | B3: Cardiology | C3: Nurse | D3: 2 | E3: 45501 | F3: Available
A4: R8097 | B4: Orthopedics | C4: Doctor | D4: 0 | E4: 45545 | F4: Unavailable
A5: R2557 | B5: General Medicine | C5: Room | D5: 0 | E5: 45643 | F5: Under Maintenance
A6: R9024 | B6: Neurology | C6: Doctor | D6: 9 | E6: 45482 | F6: Available
A7: R9181 | B7: N/A | C7: Room | D7: 1 | F7: Available
A8: R2629 | B8: Oncology | C8: Doctor | D8: 4 | E8: 45357 | F8: Available
A9: R1317 | B9: Cardiology | C9: Nurse | D9: 5 | E9: 45383 | F9: Available
A10: R9640 | B10: Neurology | C10: Room | D10: 1 | E10: 45581 | F10: Available
A11: R1787 | B11: Oncology | C11: Doctor | D11: 8 | E11: 45558 | F11: Available
A12: R9426 | B12: Cardiology | C12: Technician | D12: 5 | E12: 45395 | F12: In Use
A13: R1606 | B13: General Medicine | C13: Nurse | D13: 8 | E13: 45460 | F13: Available
A14: R3242 | B14: Pediatric | C14: Doctor | D14: 6 | E14: 45519 | F14: Available
A15: R6893 | B15: Neurology | C15: Doctor | D15: 3 | E15: 45416 | F15: Available
A16: R3237 | B16: Orthopedics | C16: Nurse | D16: 4 | E16: 45344 | F16: Available
A17: R5274 | B17: General Medicine | C17: Doctor | D17: 7 | E17: 45311 | F17: Available
A18: R1039 | B18: Neurology | C18: Technician | D18: 5 | E18: 45589 | F18: Available
A19: R5597 | B19: Neurology | C19: Nurse | D19: 0 | E19: 45615 | F19: Unavailable
... A22: R5074 | B22: Oncology | C22: Room | D22: 4 | E22: 45652 | F22: In Use
A23: R3855 | B23: Orthopedics | C23: N/A | D23: 0 | F23: Unavailable
A24: R8405 | B24: Neurology | C24: Technician | D24: 5 | E24: 45635 | F24: Available
A25: R5984 | B25: Orthopedics | C25: Equipment | D25: 3 | E25: 45644 | F25: In Use
A26: R6968 | B26: General Medicine | C26: Doctor | D26: 1 | E26: 45641 | F26: Available
A27: R7116 | B27: Cardiology | C27: Technician | D27: 8 | E27: 45392 | F27: Available
A28: R4399 | B28: General Medicine | C28: Room | D28: 0 | E28: 45558 | F28: Under Maintenance
A29: R6261 | B29: Neurology | C29: Equipment | D29: 0 | E29: 45486 | F29: Under Maintenance
A30: R9923 | B30: Cardiology | C30: Technician | D30: 8 | E30: 45322 | F30: Available
A31: R6097 | B31: Neurology | C31: Nurse | D31: 9 | E31: 45520 | F31: Available
A32: R1624 | B32: Oncology | C32: Room | D32: 2 | E32: 45622 | F32: In Use
A33: R6385 | B33: Oncology | C33: Doctor | D33: 0 | E33: 45642 | F33: Unavailable
A34: R2625 | B34: Neurology | C34: Equipment | D34: 0 | E34: 45384 | F34: Under Maintenance
A35: R3097 | B35: Orthopedics | C35: Room | D35: 0 | E35: 45446 | F35: Under Maintenance
... A45: R2833 | B45: General Medicine | C45: Equipment | D45: 3 | E45: 45507 | F45: In Use
A46: N/A | B46: Oncology | C46: N/A | D46: 1 | F46: Available
A47: R5799 | B47: General Medicine | C47: Nurse | D47: 9 | E47: 45313 | F47: Available
A48: R2825 | B48: Pediatric | C48: Technician | D48: 8 | E48: 45347 | F48: Available
A49: R5252 | B49: Pediatric | C49: Nurse | D49: 7 | E49: 45466 | F49: Available
A50: R7354 | B50: Pediatric | C50: Doctor | D50: 9 | E50: 45350 | F50: Available
A51: R2717 | B51: Cardiology | C51: Technician | D51: 3 | E51: 45590 | F51: Available
A52: R3782 | B52: Pediatric | C52: Doctor | D52: 7 | E52: 45324 | F52: In Use
A53: R1276 | B53: Oncology | C53: Technician | D53: 9 | E53: 45630 | F53: Available
A54: R2832 | B54: Pediatric | C54: Technician | D54: 9 | E54: 45482 | F54: Available
A55: R7226 | B55: Neurology | C55: Technician | D55: 3 | E55: 45370 | F55: Available
A56: R3607 | B56: Neurology | C56: Equipment | D56: 9 | E56: 45362 | F56: Available
A57: R9177 | B57: General Medicine | C57: Technician | D57: 8 | E57: 45633 | F57: Available
A58: R1427 | B58: General Medicine | C58: Nurse | D58: 7 | E58: 45556 | F58: Available
... A77: R2221 | B77: Pediatric | C77: Equipment | D77: 0 | E77: 45392 | F77: Under Maintenance
A78: R8679 | B78: N/A | C78: Doctor | D78: 2 | F78: Available
A79: R7880 | B79: Cardiology | C79: Technician | D79: 7 | E79: 45651 | F79: Available
A80: R9173 | B80: Orthopedics | C80: Doctor | D80: 6 | E80: 45464 | F80: Available
A81: R8674 | B81: Orthopedics | C81: Room | D81: 2 | E81: 45504 | F81: Available
A82: R3194 | B82: Neurology | C82: Equipment | D82: 2 | E82: 45594 | F82: In Use
A83: R8628 | B83: Cardiology | C83: Equipment | D83: 6 | E83: 45614 | F83: Available
A84: R8103 | B84: Pediatric | C84: Room | D84: 7 | E84: 45541 | F84: In Use
A85: R4911 | B85: Oncology | C85: Equipment | D85: 0 | E85: 45440 | F85: Under Maintenance
A86: R8724 | B86: Orthopedics | C86: Nurse | D86: 0 | E86: 45307 | F86: Unavailable
A87: R3152 | B87: General Medicine | C87: Doctor | D87: 0 | E87: 45351 | F87: Unavailable
A88: R8641 | B88: Cardiology | C88: Room | D88: 9 | E88: 45523 | F88: In Use
A89: R4369 | B89: General Medicine | C89: Doctor | D89: 5 | E89: 45534 | F89: Available
A90: R2354 | B90: Orthopedics | C90: Doctor | D90: 7 | E90: 45386 | F90: Available
... A127: R2004 | B127: Neurology | C127: Equipment | D127: 4 | E127: 45582 | F127: In Use
A128: N/A | B128: Cardiology | C128: N/A | D128: 2 | F128: In Use
A129: R3795 | B129: Pediatric | C129: Doctor | D129: 6 | E129: 45324 | F129: Available
A130: R5550 | B130: Cardiology | C130: Equipment | D130: 3 | E130: 45627 | F130: Available
A131: R1369 | B131: Orthopedics | C131: Nurse | D131: 4 | E131: 45568 | F131: Available
A132: R9210 | B132: Neurology | C132: Doctor | D132: 1 | E132: 45535 | F132: Available
A133: R7907 | B133: Orthopedics | C133: Equipment | D133: 2 | E133: 45537 | F133: In Use
A134: R5061 | B134: General Medicine | C134: Doctor | D134: 0 | E134: 45492 | F134: Unavailable
A135: R3257 | B135: Neurology | C135: Technician | D135: 6 | E135: 45558 | F135: Available
A136: R6179 | B136: General Medicine | C136: Technician | D136: 4 | E136: 45502 | F136: Available
A137: R2158 | B137: Oncology | C137: Nurse | D137: 3 | E137: 45367 | F137: Available
A138: R4245 | B138: Cardiology | C138: Room | D138: 8 | E138: 45634 | F138: In Use
A139: R3900 | B139: General Medicine | C139: Technician | D139: 8 | E139: 45465 | F139: Available
A140: R8250 | B140: Neurology | C140: Technician | D140: 0 | E140: 45443 | F140: Unavailable
... A196: R9553 | B196: Oncology | C196: Doctor | D196: 0 | E196: 45317 | F196: Unavailable
A197: N/A | B197: Oncology | D197: 9 | F197: Unavailable
A198: R1385 | B198: Pediatric | C198: Doctor | D198: 0 | E198: 45377 | F198: Unavailable
A199: R8161 | B199: General Medicine | C199: Equipment | D199: 1 | E199: 45645 | F199: Available
A200: R5806 | B200: Pediatric | C200: Doctor | D200: 8 | E200: 45368 | F200: Available
A201: R1560 | B201: Pediatric | C201: Technician | D201: 6 | E201: 45432 | F201: Available
A202: R3933 | B202: Neurology | C202: Doctor | D202: 8 | E202: 45568 | F202: Available

Sheet Pivot Tables- Appointment Data
A3: Count of AppointmentID | B3: Hour | P3: Row Labels | Q3: Count of AppointmentID | S3: Hour | T3: 08AM | U3: 09AM | V3: 10AM | W3: 11AM | X3: 12PM | Y3: 1PM | Z3: 2PM | AA3: 3PM | AB3: 4PM | AC3: 5PM | AD3: 6M | AE3: Grand Total
A4: Department | C4: 0.33333333 | D4: 0.375 | E4: 0.41666667 | F4: 0.45833333 | G4: 0.5 | H4: 0.54166667 | I4: 0.58333333 | J4: 0.625 | K4: 0.66666667 | L4: 0.70833333 | M4: 0.75 | N4: Grand Total | P4: Monday | Q4: 34 | S4: Number of appointments | T4: 18 | U4: 15 | V4: 14 | W4: 17 | X4: 18 | Y4: 12 | Z4: 13 | AA4: 19 | AB4: 18 | AC4: 20 | AD4: 27 | AE4: 200
A5: Cardiology | B5: 1 | C5: 5 | D5: 2 | F5: 3 | G5: 6 | H5: 2 | I5: 4 | J5: 7 | K5: 2 | L5: 4 | M5: 2 | N5: 38 | P5: Tuesday | Q5: 27 | S5: % of low satisfaction score | T5: 0.16666667 | U5: 0.052631579 | V5: 0.071428571 | W5: 0.1875 | X5: 0.052631579 | Y5: 0.11111111 | Z5: 0.13333333 | AA5: 0.1 | AB5: 0.21052632 | AC5: 0.095238095 | AD5: 0.25 | AE5: 0.13636364
A6: General Medicine | B6: 1 | C6: 3 | D6: 2 | E6: 2 | F6: 2 | G6: 2 | H6: 3 | I6: 2 | J6: 1 | K6: 3 | L6: 2 | M6: 4 | N6: 27 | P6: Wednesday | Q6: 27
A7: N/A | B7: 1 | N7: 1 | P7: Thursday | Q7: 23
A8: Neurology | B8: 1 | C8: 3 | D8: 1 | E8: 5 | F8: 4 | G8: 6 | I8: 2 | J8: 4 | K8: 2 | L8: 2 | M8: 5 | N8: 35 | P8: Friday | Q8: 26
A9: Oncology | B9: 3 | C9: 1 | D9: 3 | E9: 1 | F9: 3 | G9: 2 | H9: 2 | J9: 3 | K9: 6 | L9: 3 | M9: 5 | N9: 32 | P9: Saturday | Q9: 31
A10: Orthopedics | C10: 2 | D10: 2 | E10: 1 | F10: 3 | G10: 1 | H10: 2 | I10: 2 | J10: 4 | K10: 2 | L10: 5 | M10: 6 | N10: 30 | P10: Sunday | Q10: 30
A11: Pediatric | B11: 2 | C11: 4 | D11: 5 | E11: 5 | F11: 2 | G11: 1 | H11: 3 | I11: 3 | K11: 3 | L11: 4 | M11: 5 | N11: 37 | P11: (blank) | Q11: 2
A12: Grand Total | B12: 9 | C12: 18 | D12: 15 | E12: 14 | F12: 17 | G12: 18 | H12: 12 | I12: 13 | J12: 19 | K12: 18 | L12: 20 | M12: 27 | N12: 200 | P12: Grand Total | Q12: 200

Sheet Pivot Tables- Feedback Data
A3: Count of FeedbackID | B3: feedback
A4: Department | B4: High | C4: Low | D4: Grand Total
A5: Cardiology | B5: 0.93939394 | C5: 0.060606061 | D5: 1
A6: General Medicine | B6: 0.80769231 | C6: 0.19230769 | D6: 1
A7: N/A | B7: 1 | C7: 0 | D7: 1
A8: Neurology | B8: 0.97058824 | C8: 0.029411765 | D8: 1
A9: Oncology | B9: 0.8125 | C9: 0.1875 | D9: 1
A10: Orthopedics | B10: 0.72413793 | C10: 0.27586207 | D10: 1
A11: Pediatric | B11: 0.86486486 | C11: 0.13513514 | D11: 1
A12: Grand Total | B12: 0.86363636 | C12: 0.13636364 | D12: 1
A14: Count of FeedbackID
A15: Appointment hour | B15: High | C15: Low | D15: Grand Total
A16: 0.33333333 | B16: 0.83333333 | C16: 0.16666667 | D16: 1
A17: 0.375 | B17: 0.94736842 | C17: 0.052631579 | D17: 1
A18: 0.41666667 | B18: 0.92857143 | C18: 0.071428571 | D18: 1
A19: 0.45833333 | B19: 0.8125 | C19: 0.1875 | D19: 1
A20: 0.5 | B20: 0.94736842 | C20: 0.052631579 | D20: 1
A21: 0.54166667 | B21: 0.88888889 | C21: 0.11111111 | D21: 1
A22: 0.58333333 | B22: 0.86666667 | C22: 0.13333333 | D22: 1
A23: 0.625 | B23: 0.9 | C23: 0.1 | D23: 1
A24: 0.66666667 | B24: 0.78947368 | C24: 0.21052632 | D24: 1
A25: 0.70833333 | B25: 0.9047619 | C25: 0.095238095 | D25: 1
A26: 0.75 | B26: 0.75 | C26: 0.25 | D26: 1
A27: Grand Total | B27: 0.86363636 | C27: 0.13636364 | D27: 1

Sheet Pivot Tables- Resource Data
A3: Department | B3: Average of UsageHours
A4: Pediatric | B4: 4.85
A5: Cardiology | B5: 4.1818182
A6: Neurology | B6: 3.7941176
A7: Oncology | B7: 3.5555556
A8: General Medicine | B8: 3.4102564
A9: Orthopedics | B9: 3.3703704
A10: N/A | B10: 1.5
A11: Grand Total | B11: 3.85
